Workbook

Sheet นักเรียน ชั้นปี 
A1: จำนวนนักเรียน นักศึกษา จำแนกตามชั้นปี ระดับการศึกษา และสังกัด (ไม่รวม กศน.) ปีการศึกษา 2559 | AI1: 2559 | AJ1: 2558 | AK1: ผลต่าง 59/58 | AM1: บูรณาการ | AN1: ผลต่างบูรณาการ/59
A2: สังกัด | B2: ก่อนประถมศึกษา | G2: ประถมศึกษา | M2: มัธยมศึกษาตอนต้น | P2: มัธยมศึกษาตอนปลาย | V2: ป.ตรี และต่ำกว่า | AE2: สูงกว่า ป.ตรี | AI2: รวม
P4: สามัญศึกษา | S4: อาชีวศึกษา | V4: ป.ตรี | AE4: ป.บัณฑิต | AF4: ป.โท | AG4: ป.บัณฑิตชั้นสูง | AH4: ป.เอก
B5: เตรียม อนุบาล | C5: อนุบาล 3 ขวบ | D5: อนุบาล 1 | E5: อนุบาล 2 | F5: เด็กเล็ก | G5: ป.1 | H5: ป.2 | I5: ป.3 | J5: ป.4 | K5: ป.5 | L5: ป.6 | M5: ม.1 | N5: ม.2 | O5: ม.3 | P5: ม.4 | Q5: ม.5 | R5: ม.6 | S5: ปวช.1 | T5: ปวช.2 | U5: ปวช.3 | V5: ปวส.1/อนุปริญญา 1 | W5: ปวส.2/อนุปริญญา 2 | X5: ปวส.2/อนุปริญญา 3 | Y5: ปี 1 | Z5: ปี 2 | AA5: ปี 3 | AB5: ปี 4 | AC5: ปี 5 | AD5: ปี 6
A6: ภาพรวมระดับประเทศ | B6: =+B7+B15 -> 16477 | C6: =+C7+C15 -> 250660 | D6: =+D7+D15 -> 748134 | E6: =+E7+E15 -> 709823 | F6: =+F7+F15 -> 1562 | G6: =+G7+G15 -> 803121 | H6: =+H7+H15 -> 787523 | I6: =+I7+I15 -> 795096 | ... AH6: =+AH7+AH15 -> 23371 | AI6: =SUM(B6:AH6) -> 12618607
A7: กระทรวงศึกษาธิการ (รวมหน่วยงานภายใต้สังกัด และหน่วยงานในกำกับกระทรวงศึกษาธิการ) | B7: =+B8+B13 -> 16477 | C7: =+C8+C13 -> 190731 | D7: =+D8+D13 -> 661265 | E7: =+E8+E13 -> 645683 | F7: =+F8+F13 -> 82 | G7: =+G8+G13 -> 714348 | H7: =+H8+H13 -> 701768 | I7: =+I8+I13 -> 709108 | ... AH7: =+AH8+AH13 -> 23371 | AI7: =SUM(B7:AH7) -> 11516611 | AJ7: =SUM(AJ8,AJ14) -> 12238233 | AK7: =AI7-AJ7 -> -721622
A8: หน่วยงานภายใต้สังกัดกระทรวงศึกษาธิการ | B8: =SUM(B9:B12) -> 16477 | C8: =SUM(C9:C12) -> 190731 | D8: =SUM(D9:D12) -> 661265 | E8: =SUM(E9:E12) -> 645683 | F8: =SUM(F9:F12) -> 82 | G8: =SUM(G9:G12) -> 714348 | H8: =SUM(H9:H12) -> 701768 | I8: =SUM(I9:I12) -> 709108 | ... AH8: =SUM(AH9:AH12) -> 23371 | AI8: =SUM(B8:AH8) -> 11515898 | AJ8: =SUM(AJ9:AJ12) -> 12237516 | AK8: =AI8-AJ8 -> -721618 | AM8: =SUM(AM9:AM12) -> 12215730 | AN8: =AI8-AM8 -> -699832
A9: 1.สำนักงานคณะกรรมการส่งเสริมการศึกษาเอกชน | B9: 16244 | C9: 188344 | D9: 210271 | E9: 199125 | F9: 0 | G9: 182900 | H9: 182394 | I9: 180209 | J9: 175208 | K9: 169186 | L9: 166602 | M9: 112551 | N9: 107370 | O9: 100893 | P9: 58069 | Q9: 52716 | R9: 50171 | S9: 0 | T9: 0 | U9: 0 | V9: 0 | W9: 0 | X9: 0 | Y9: 0 | Z9: 0 | AA9: 0 | AB9: 0 | AC9: 0 | AD9: 0 | AE9: 0 | AF9: 0 | AG9: 0 | AH9: 0 | AI9: =SUM(B9:AH9) -> 2152253 | AJ9: 2540394 | AK9: =AI9-AJ9 -> -388141 | AM9: 2438111 | AN9: =AI9-AM9 -> -285858 | AP9: 2438111
A10: 2.สำนักงานคณะกรรมการการศึกษาขั้นพื้นฐาน | C10: 1536 | D10: 450186 | E10: 445841 | F10: 0 | G10: 529785 | H10: 517723 | I10: 527262 | J10: 535179 | K10: 542880 | L10: 551347 | M10: 593653 | N10: 581468 | O10: 562387 | P10: 348661 | Q10: 332689 | R10: 331335 | S10: 1517 | T10: 1505 | U10: 1318 | V10: 0 | W10: 0 | X10: 0 | Y10: 0 | Z10: 0 | AA10: 0 | AB10: 0 | AC10: 0 | AD10: 0 | AE10: 0 | AF10: 0 | AG10: 0 | AI10: =SUM(B10:AH10) -> 6856272 | AJ10: 6980871 | AK10: =AI10-AJ10 -> -124599 | AM10: 6856272 | AN10: =AI10-AM10 -> 0
A11: 3.สำนักงานคณะกรรมการการอุดมศึกษา | B11: 233 | C11: 851 | D11: 808 | E11: 717 | F11: 82 | G11: 1663 | H11: 1651 | I11: 1637 | J11: 1631 | K11: 1557 | L11: 1455 | M11: 3329 | N11: 3175 | O11: 3070 | P11: 3345 | Q11: 3334 | R11: 2934 | S11: n/a | T11: n/a | U11: n/a | V11: 3322 | W11: 3370 | X11: 745 | Y11: 414631 | Z11: 407722 | AA11: 362052 | AB11: 309876 | AC11: 112356 | AE11: 8324 | AF11: 135116 | AG11: 1039 | AH11: 23371 | AI11: =SUM(B11:AH11) -> 1813396 | AJ11: 2042138 | AK11: =AI11-AJ11 -> -228742 | AM11: 2139985 | AN11: =AI11-AM11 -> -326589 | AP11: 1784188
A12: 4.สำนักงานคณะกรรมการการอาชีวศึกษา | B12: 0 | C12: 0 | D12: 0 | E12: 0 | F12: 0 | G12: 0 | H12: 0 | I12: 0 | J12: 0 | K12: 0 | L12: 0 | M12: 0 | N12: 0 | O12: 0 | P12: 0 | Q12: 0 | R12: 0 | S12: 169767 | T12: 131346 | U12: 143211 | V12: 113706 | W12: 129031 | X12: 0 | Y12: 0 | Z12: 0 | AA12: 3721 | AB12: 3195 | AC12: 0 | AF12: 0 | AG12: 0 | AH12: 0 | AI12: =SUM(B12:AH12) -> 693977 | AJ12: 674113 | AK12: =AI12-AJ12 -> 19864 | AM12: 781362 | AN12: =AI12-AM12 -> -87385 | AP12: 781362
A13: หน่วยงานในกำกับ กระทรวงศึกษาธิการ | B13: =SUM(B14) -> 0 | C13: =SUM(C14) -> 0 | D13: =SUM(D14) -> 0 | E13: =SUM(E14) -> 0 | F13: =SUM(F14) -> 0 | G13: =SUM(G14) -> 0 | H13: =SUM(H14) -> 0 | I13: =SUM(I14) -> 0 | ... AH13: =SUM(AH14) -> 0 | AI13: =SUM(B13:AH13) -> 713 | AK13: =AI13-AJ13 -> 713
A14: 5.โรงเรียนมหิดลวิทยานุสรณ์ | P14: 240 | Q14: 239 | R14: 234 | S14: 0 | T14: 0 | U14: 0 | AI14: =SUM(B14:AH14) -> 713 | AJ14: 717 | AK14: =AI14-AJ14 -> -4
A15: หน่วยงานภายนอกสังกัด ศธ. | B15: =SUM(B16:B32) -> 0 | C15: =SUM(C16:C32) -> 59929 | D15: =SUM(D16:D32) -> 86869 | E15: =SUM(E16:E32) -> 64140 | F15: =SUM(F16:F32) -> 1480 | G15: =SUM(G16:G32) -> 88773 | H15: =SUM(H16:H32) -> 85755 | I15: =SUM(I16:I32) -> 85988 | ... AH15: =SUM(AH16:AH32) -> 0 | AI15: =SUM(B15:AH15) -> 1101996 | AJ15: =SUM(AJ16:AJ32) -> 1147696 | AK15: =AI15-AJ15 -> -45700
A16: 1. สำนักการศึกษา กรุงเทพมหานคร | D16: 25604 | E16: 25019 | G16: 34042 | H16: 32925 | I16: 33791 | J16: 34685 | K16: 34879 | L16: 36087 | M16: 12899 | N16: 11834 | O16: 9492 | P16: 1178 | Q16: 975 | R16: 856 | S16: 0 | T16: 0 | U16: 0 | AI16: =SUM(B16:AH16) -> 294266 | AJ16: 295102 | AK16: =AI16-AJ16 -> -836
A17: 2. มหาวิทยาลัยนวมินทราธิราช กรุงเทพมหานคร | P17: 0 | Q17: 0 | R17: 0 | S17: 0 | T17: 0 | U17: 0 | Y17: 84 | Z17: 85 | AA17: 78 | AB17: 80 | AC17: 80 | AD17: 76 | AI17: =SUM(B17:AH17) -> 483 | AJ17: 1311 | AK17: =AI17-AJ17 -> -828
A18: 3. สำนักงานตำรวจแห่งชาติ : | AK18: =AI18-AJ18 -> 0
A19: 3.1 กองบัญชาการตำรวจตระเวนชายแดน | C19: 618 | D19: 570 | E19: 45 | F19: 1480 | G19: 1271 | H19: 1165 | I19: 1167 | J19: 1023 | K19: 1005 | L19: 988 | P19: n/a | Q19: n/a | R19: n/a | S19: 0 | T19: 0 | U19: 0 | AI19: =SUM(B19:AH19) -> 9332 | AJ19: 24992 | AK19: =AI19-AJ19 -> -15660
A20: 3.2 โรงเรียนนายร้อยตำรวจ | P20: 0 | Q20: 0 | R20: 0 | S20: 0 | T20: 0 | U20: 0 | Y20: 297 | Z20: 279 | AA20: 275 | AB20: 272 | AI20: =SUM(B20:AH20) -> 1123 | AJ20: 1152 | AK20: =AI20-AJ20 -> -29
A21: 4. กระทรวงมหาดไทย กรมส่งเสริมการปกครองท้องถิ่น | AK21: =AI21-AJ21 -> 0
A22: 4.1 สำนักประสานและพัฒนาการจัดการศึกษาท้องถิ่น | B22: 0 | C22: 59311 | D22: 60695 | E22: 39076 | F22: 0 | G22: 53455 | H22: 51659 | I22: 51022 | J22: 49989 | K22: 50457 | L22: 49919 | M22: 58386 | N22: 55887 | O22: 51894 | P22: 27562 | Q22: 25030 | R22: 24489 | S22: 1496 | T22: 928 | U22: 842 | V22: 223 | W22: 314 | X22: 227 | Y22: 0 | Z22: 0 | AA22: 0 | AB22: 0 | AC22: 0 | AD22: 0 | AE22: 0 | AF22: 0 | AG22: 0 | AH22: 0 | AI22: =SUM(B22:AH22) -> 712861 | AJ22: 698920 | AK22: =AI22-AJ22 -> 13941
A23: 4.2 สำนักการศึกษาเมืองพัทยา | P23: n/a | Q23: n/a | R23: n/a | S23: 0 | T23: 0 | U23: 0 | AI23: =SUM(B23:AH23) -> 0 | AJ23: 15077 | AK23: =AI23-AJ23 -> -15077
A24: 5. กระทรวงการพัฒนาสังคม และความมั่นคงของมนุษย์ | B24: 0 | C24: 0 | D24: 0 | E24: 0 | F24: 0 | G24: 5 | H24: 6 | I24: 8 | J24: 12 | K24: 8 | L24: 11 | M24: 25 | N24: 20 | O24: 12 | P24: 0 | Q24: 0 | R24: 0 | S24: 0 | T24: 0 | U24: 0 | V24: 0 | W24: 0 | X24: 0 | Y24: 0 | Z24: 0 | AA24: 0 | AB24: 0 | AC24: 0 | AD24: 0 | AE24: 0 | AF24: 0 | AG24: 0 | AH24: 0 | AI24: =SUM(B24:AH24) -> 107 | AJ24: 182 | AK24: =AI24-AJ24 -> -75
A25: 6. กระทรวงสาธารณสุข สถาบันพระบรมราชชนก | P25: 0 | Q25: 0 | R25: 0 | S25: 0 | T25: 0 | U25: 0 | V25: 151 | W25: 101 | Y25: 5073 | Z25: 4155 | AA25: 4164 | AB25: 4097 | AI25: =SUM(B25:AH25) -> 17741 | AJ25: 18283 | AK25: =AI25-AJ25 -> -542
A26: 7. กระทรวงคมนาคม : | AK26: =AI26-AJ26 -> 0
A27: 7.1 ศูนย์ฝึกพาณิชย์นาวี | P27: 0 | Q27: 0 | R27: 0 | S27: 0 | T27: 0 | U27: 0 | Y27: 200 | Z27: 161 | AA27: 142 | AB27: 136 | AC27: 126 | AD27: 272 | AI27: =SUM(B27:AH27) -> 1037 | AJ27: 831 | AK27: =AI27-AJ27 -> 206
A28: 7.2 สถาบันการบินพลเรือน | P28: 0 | Q28: 0 | R28: 0 | S28: 0 | T28: 0 | U28: 0 | V28: 203 | W28: 173 | X28: 65 | Y28: 418 | Z28: 411 | AA28: 389 | AB28: =368+24+3 -> 395 | AF28: 63 | AI28: =SUM(B28:AH28) -> 2117 | AJ28: 2026 | AK28: =AI28-AJ28 -> 91
A29: 8. สำนักงานพระพุทธศาสนาแห่งชาติ | M29: 11478 | N29: 11824 | O29: 9872 | P29: 5830 | Q29: 5225 | R29: 3835 | S29: 0 | T29: 0 | U29: 0 | AI29: =SUM(B29:AH29) -> 48064 | AJ29: 49710 | AK29: =AI29-AJ29 -> -1646
A30: 9. กระทรวงวัฒนธรรม :สถาบันบัณฑิตพัฒศิลป์ | M30: 1211 | N30: 973 | O30: 739 | P30: 1313 | Q30: 1191 | R30: 1021 | S30: 324 | T30: 189 | U30: 247 | V30: 60 | W30: 58 | Y30: 770 | Z30: 753 | AA30: 645 | AB30: 631 | AC30: 561 | AI30: =SUM(B30:AH30) -> 10686 | AJ30: 11254 | AK30: =AI30-AJ30 -> -568
A31: 10. กระทรวงการท่องเที่ยวและกีฬา | B31: 0 | C31: 0 | D31: 0 | E31: 0 | F31: 0 | G31: 0 | H31: 0 | I31: 0 | J31: 6 | K31: 6 | L31: 7 | M31: 767 | N31: 670 | O31: 725 | P31: 704 | Q31: 568 | R31: 523 | S31: 0 | T31: 0 | U31: 0 | V31: 0 | W31: 0 | X31: 0 | Y31: 0 | Z31: 0 | AA31: 0 | AB31: 0 | AC31: 0 | AD31: 0 | AE31: 0 | AF31: 0 | AG31: 0 | AH31: 0 | AI31: =SUM(B31:AH31) -> 3976 | AJ31: 20886 | AK31: =AI31-AJ31 -> -16910
A32: 11. กระทรวงกลาโหม | B32: =+B33+B37+B42+B48 -> 0 | C32: =+C33+C37+C42+C48 -> 0 | D32: =+D33+D37+D42+D48 -> 0 | E32: =+E33+E37+E42+E48 -> 0 | F32: =+F33+F37+F42+F48 -> 0 | G32: =+G33+G37+G42+G48 -> 0 | H32: =+H33+H37+H42+H48 -> 0 | I32: =+I33+I37+I42+I48 -> 0 | ... O32: =+O33+O37+O42+O48 -> 0 | P32: n/a | Q32: n/a | R32: n/a | S32: =+S33+S37+S42+S48 -> 80 | T32: =+T33+T37+T42+T48 -> 73 | U32: =+U33+U37+U42+U48 -> 50 | V32: =+V33+V37+V42+V48 -> 0 | W32: =+W33+W37+W42+W48 -> 0 | X32: =+X33+X37+X42+X48 -> 0 | Y32: =+Y33+Y37+Y42+Y48 -> 0 | Z32: =+Z33+Z37+Z42+Z48 -> 0 | ... AH32: =+AH33+AH37+AH42+AH48 -> 0 | AI32: =SUM(B32:AH32) -> 203 | AJ32: 7970 | AK32: =AI32-AJ32 -> -7767
A33: กองบัญชาการกองทัพไทย | B33: =SUM(B34:B36) -> 0 | C33: =SUM(C34:C36) -> 0 | D33: =SUM(D34:D36) -> 0 | E33: =SUM(E34:E36) -> 0 | F33: =SUM(F34:F36) -> 0 | G33: =SUM(G34:G36) -> 0 | H33: =SUM(H34:H36) -> 0 | I33: =SUM(I34:I36) -> 0 | ... AH33: =SUM(AH34:AH36) -> 0 | AI33: =SUM(B33:AH33) -> 0
A34: โรงเรียนเตรียมทหาร | AI34: =SUM(B34:AH34) -> 0
A35: โรงเรียนช่างฝีมือทหาร | AI35: =SUM(B35:AH35) -> 0
A36: โรงเรียนแผนที่ กรมแผนที่ทหาร | AI36: =SUM(B36:AH36) -> 0
A37: กองทัพเรือ | B37: =SUM(B38:B41) -> 0 | C37: =SUM(C38:C41) -> 0 | D37: =SUM(D38:D41) -> 0 | E37: =SUM(E38:E41) -> 0 | F37: =SUM(F38:F41) -> 0 | G37: =SUM(G38:G41) -> 0 | H37: =SUM(H38:H41) -> 0 | I37: =SUM(I38:I41) -> 0 | ... AH37: =SUM(AH38:AH41) -> 0 | AI37: =SUM(B37:AH37) -> 203
A38: โรงเรียนช่างกรมอู่ทหารเรือ | S38: 80 | T38: 73 | U38: 50 | AI38: =SUM(B38:AH38) -> 203
A39: โรงเรียนดุริยางค์ทหารเรือ | AI39: =SUM(B39:AH39) -> 0
A40: โรงเรียนนายเรือ | AI40: =SUM(B40:AH40) -> 0
A41: วิทยาลัยพยาบาลกองทัพเรือ | AI41: =SUM(B41:AH41) -> 0
A42: กองทัพบก | B42: =SUM(B43:B47) -> 0 | C42: =SUM(C43:C47) -> 0 | D42: =SUM(D43:D47) -> 0 | E42: =SUM(E43:E47) -> 0 | F42: =SUM(F43:F47) -> 0 | G42: =SUM(G43:G47) -> 0 | H42: =SUM(H43:H47) -> 0 | I42: =SUM(I43:I47) -> 0 | ... AH42: =SUM(AH43:AH47) -> 0 | AI42: =SUM(B42:AH42) -> 0
A43: โรงเรียนเสนาธิการทหารบก | AI43: =SUM(B43:AH43) -> 0
A44: โรงเรียนดุริยางค์ทหารบก | AI44: =SUM(B44:AH44) -> 0
A45: วิทยาลัยแพทยศาสตร์พระมงกุฎเกล้า | AI45: =SUM(B45:AH45) -> 0
A46: โรงเรียนนายร้อยพระจุลจอมเกล้า | AI46: =SUM(B46:AH46) -> 0
A47: วิทยาลัยพยาบาลกองทัพบก | AI47: =SUM(B47:AH47) -> 0
A48: กองทัพอากาศ | B48: =SUM(B49:B52) -> 0 | C48: =SUM(C49:C52) -> 0 | D48: =SUM(D49:D52) -> 0 | E48: =SUM(E49:E52) -> 0 | F48: =SUM(F49:F52) -> 0 | G48: =SUM(G49:G52) -> 0 | H48: =SUM(H49:H52) -> 0 | I48: =SUM(I49:I52) -> 0 | ... AH48: =SUM(AH49:AH52) -> 0 | AI48: =SUM(B48:AH48) -> 0
A49: โรงเรียนจ่าอากาศ | AI49: =SUM(B49:AH49) -> 0
A50: โรงเรียนดุริยางค์ทหารอากาศ | AI50: =SUM(B50:AH50) -> 0
A51: วิทยาลัยพยาบาลทหารอากาศ | AI51: =SUM(B51:AH51) -> 0
A52: โรงเรียนนายเรืออากาศ | AI52: =SUM(B52:AH52) -> 0
A53: หมายเหตุ n/a อยู่ระหว่างติดตามและรวบรวมข้อมูล
A54: สำหรับใช้ในการประเมินตัวชี้วัด ร้อยละผู้เข้าเรียนมัธยมศึกษาตอนปลายประเภทอาชีวศึกษา : สามัญศึกษา (ปวช. 1 : ม.4)
A55: ที่มา : ข้อมูลจากหน่วยงานต้นสังกัด สรุปและประมวลผล ณ วันที่ 15 พ.ย.59 โดย กลุ่มพัฒนาระบบสารสนเทศ ศูนย์เทคโนโลยีสารสนเทศและการสื่อสาร สป.

Sheet สรุปจำนวน นร.
A1: สรุปจำนวนนักเรียน นิสิต นักศึกษาในระบบโรงเรียน จำแนกประเภท และชั้นปี ปีการศึกษา 2559
A3: ระดับการศึกษา/ชั้น/ ประเภทการศึกษา | B3: อายุ | C3: รวม Total | D3: ประเภท สามัญศึกษา | E3: ประเภท อาชีวศึกษา | F3: ประเภทสาขาวิชาอื่น | G3: ปริญญาตรี และสูงกว่า
A4: รวมทั้งสิ้น | C4: =SUM(D4:G4) -> 12618607 | D4: =SUM(D5+D11+D18+D27) -> 10107394 | E4: =SUM(E5+E11+E18+E27) -> 704642 | F4: =SUM(F5+F11+F18+F27) -> 0 | G4: =SUM(G27) -> 1806571
A5: รวมก่อนประถมศึกษา | B5: <3 - 5 | C5: =SUM(D5:G5) -> 1726656 | D5: =SUM(D6:D10) -> 1726656 | E5: =SUM(E7:E10) -> 0 | F5: =SUM(F7:F10) -> 0 | G5: =SUM(G7:G10) -> 0
A6: เตรียมอนุบาล | B6: ต่ำกว่า 3 | C6: =SUM(D6:G6) -> 16477 | D6: ='นักเรียน ชั้นปี '!$B$6 -> 16477 | E6: 0 | F6: 0 | G6: 0
A7: อนุบาล 1 (หลักสูตร 3 ปีของ สช.) | B7: 3 | C7: =SUM(D7:G7) -> 250660 | D7: ='นักเรียน ชั้นปี '!$C$6 -> 250660 | E7: 0 | F7: 0 | G7: 0
A8: อนุบาล 2 (สช.)/อนุบาล 1 | B8: 4 | C8: =SUM(D8:G8) -> 748134 | D8: ='นักเรียน ชั้นปี '!$D$6 -> 748134 | E8: 0 | F8: 0 | G8: 0
A9: อนุบาล 3 (สช.)/อนุบาล 2 | B9: 5 | C9: =SUM(D9:G9) -> 709823 | D9: ='นักเรียน ชั้นปี '!$E$6 -> 709823 | E9: 0 | F9: 0 | G9: 0
A10: เด็กเล็ก | B10: 5 | C10: =SUM(D10:G10) -> 1562 | D10: ='นักเรียน ชั้นปี '!$F$6 -> 1562 | E10: 0 | F10: 0 | G10: 0
A11: รวมประถมศึกษา | B11: 6 - 11 | C11: =SUM(D11:G11) -> 4789867 | D11: =SUM(D12:D17) -> 4789867 | E11: =SUM(E12:E17) -> 0 | F11: =SUM(F12:F17) -> 0 | G11: =SUM(G12:G17) -> 0
A12: ประถมศึกษาปีที่ 1 | B12: 6 | C12: =SUM(D12:G12) -> 803121 | D12: ='นักเรียน ชั้นปี '!$G$6 -> 803121 | E12: 0 | F12: 0 | G12: 0
A13: ประถมศึกษาปีที่ 2 | B13: 7 | C13: =SUM(D13:G13) -> 787523 | D13: ='นักเรียน ชั้นปี '!$H$6 -> 787523 | E13: 0 | F13: 0 | G13: 0
A14: ประถมศึกษาปีที่ 3 | B14: 8 | C14: =SUM(D14:G14) -> 795096 | D14: ='นักเรียน ชั้นปี '!$I$6 -> 795096 | E14: 0 | F14: 0 | G14: 0
A15: ประถมศึกษาปีที่ 4 | B15: 9 | C15: =SUM(D15:G15) -> 797733 | D15: ='นักเรียน ชั้นปี '!$J$6 -> 797733 | E15: 0 | F15: 0 | G15: 0
A16: ประถมศึกษาปีที่ 5 | B16: 10 | C16: =SUM(D16:G16) -> 799978 | D16: ='นักเรียน ชั้นปี '!$K$6 -> 799978 | E16: 0 | F16: 0 | G16: 0
A17: ประถมศึกษาปีที่ 6 | B17: 11 | C17: =SUM(D17:G17) -> 806416 | D17: ='นักเรียน ชั้นปี '!$L$6 -> 806416 | E17: 0 | F17: 0 | G17: 0
A18: รวมมัธยมศึกษา | B18: 12 - 17 | C18: =SUM(D18:G18) -> 4043764 | D18: =SUM(D19+D23) -> 3590871 | E18: =SUM(E19+E23) -> 452893 | F18: =SUM(F19+F23) -> 0 | G18: =SUM(G19+G23) -> 0
A19: มัธยมศึกษาตอนต้น | B19: 12 - 14 | C19: =SUM(D19:G19) -> 2306604 | D19: =SUM(D20:D22) -> 2306604 | E19: =SUM(E20:E22) -> 0 | F19: =SUM(F20:F22) -> 0 | G19: =SUM(G20:G22) -> 0
A20: มัธยมศึกษาปีที่ 1 | B20: 12 | C20: =SUM(D20:G20) -> 794299 | D20: ='นักเรียน ชั้นปี '!$M$6 -> 794299 | E20: ='[1]T 11'!L40 -> 0 | F20: ='[1]T 11'!L67 -> 0 | G20: 0
A21: มัธยมศึกษาปีที่ 2 | B21: 13 | C21: =SUM(D21:G21) -> 773221 | D21: ='นักเรียน ชั้นปี '!$N$6 -> 773221 | E21: ='[1]T 11'!P40 -> 0 | F21: ='[1]T 11'!P67 -> 0 | G21: 0
A22: มัธยมศึกษาปีที่ 3 | B22: 14 | C22: =SUM(D22:G22) -> 739084 | D22: ='นักเรียน ชั้นปี '!$O$6 -> 739084 | E22: ='[1]T 11'!T40 -> 0 | F22: ='[1]T 11'!T67 -> 0 | G22: 0
A23: มัธยมศึกษาตอนปลาย | B23: 15 - 17 | C23: =SUM(D23:G23) -> 1737160 | D23: =SUM(D24:D26) -> 1284267 | E23: =SUM(E24:E26) -> 452893 | F23: =SUM(F24:F26) -> 0 | G23: =SUM(G24:G26) -> 0
A24: มัธยมศึกษาปีที่ 4/ ปวช. 1 | B24: 15 | C24: =SUM(D24:G24) -> 620086 | D24: ='นักเรียน ชั้นปี '!$P$6 -> 446902 | E24: ='นักเรียน ชั้นปี '!$S$6 -> 173184 | G24: 0
A25: มัธยมศึกษาปีที่ 5/ ปวช. 2 | B25: 16 | C25: =SUM(D25:G25) -> 556008 | D25: ='นักเรียน ชั้นปี '!$Q$6 -> 421967 | E25: ='นักเรียน ชั้นปี '!$T$6 -> 134041 | G25: 0
A26: มัธยมศึกษาปีที่ 6/ ปวช. 3 | B26: 17 | C26: =SUM(D26:G26) -> 561066 | D26: ='นักเรียน ชั้นปี '!$R$6 -> 415398 | E26: ='นักเรียน ชั้นปี '!$U$6 -> 145668 | G26: 0
A27: รวมอุดมศึกษา | B27: 18 ขึ้นไป | C27: =SUM(D27:G27) -> 2058320 | D27: =SUM(D28+D38) -> 0 | E27: =SUM(E28+E38) -> 251749 | F27: =SUM(F28+F38) -> 0 | G27: =SUM(G28,G38) -> 1806571
A28: รวมปริญญาตรีและต่ำกว่า | C28: =SUM(D28:G28) -> 1890407 | D28: =SUM(D29:D37) -> 0 | E28: =SUM(E29:E37) -> 251749 | F28: =SUM(F29:F37) -> 0 | G28: =SUM(G29:G37) -> 1638658
A29: ปวส./อนุปริญญา ปี 1 - 3 | C29: =SUM(D29:G29) -> 251749 | E29: =+'นักเรียน ชั้นปี '!V6+'นักเรียน ชั้นปี '!W6+'นักเรียน ชั้นปี '!X6 -> 251749
A30: ปวส./อนุปริญญา ปี 2 | C30: =SUM(D30:G30) -> 0
A31: ปวส./อนุปริญญา ปี 3 | C31: =SUM(D31:G31) -> 0
A32: ปริญญาตรี ปี 1 - 6 | C32: =SUM(D32:G32) -> 1638658 | G32: =+'นักเรียน ชั้นปี '!Y6+'นักเรียน ชั้นปี '!Z6+'นักเรียน ชั้นปี '!AA6+'นักเรียน ชั้นปี '!AB6+'นักเรียน ชั้นปี '!AC6+'นักเรียน ชั้นปี '!AD6 -> 1638658
A33: ปริญญาตรี ปี 2 | C33: =SUM(D33:G33) -> 0
A34: ปริญญาตรี ปี 3 | C34: =SUM(D34:G34) -> 0
A35: ปริญญาตรี ปี 4 | C35: =SUM(D35:G35) -> 0
A36: ปริญญาตรี ปี 5 | C36: =SUM(D36:G36) -> 0
A37: ปริญญาตรี ปี 6 | C37: =SUM(D37:G37) -> 0
A38: รวมสูงกว่าปริญญาตรี | C38: =SUM(D38:G38) -> 167913 | D38: =SUM(D39:D42) -> 0 | E38: =SUM(E39:E42) -> 0 | F38: =SUM(F39:F42) -> 0 | G38: =SUM(G39:G42) -> 167913
A39: ประกาศนียบัตรบัณฑิต | C39: =SUM(D39:G39) -> 8324 | D39: 0 | E39: 0 | F39: 0 | G39: ='นักเรียน ชั้นปี '!$AE$6 -> 8324
A40: ปริญญาโท | C40: =SUM(D40:G40) -> 135179 | D40: 0 | E40: 0 | F40: 0 | G40: ='นักเรียน ชั้นปี '!$AF$6 -> 135179
A41: ประกาศนียบัตรบัณฑิตชั้นสูง | C41: =SUM(D41:G41) -> 1039 | D41: 0 | E41: 0 | F41: 0 | G41: ='นักเรียน ชั้นปี '!$AG$6 -> 1039
A42: ปริญญาเอก | C42: =SUM(D42:G42) -> 23371 | D42: 0 | E42: 0 | F42: 0 | G42: ='นักเรียน ชั้นปี '!$AH$6 -> 23371
A44: สัดส่วนผู้เรียนมัธยมศึกษาตอนปลายประเภทอาชีวศึกษา : สามัญศึกษา (ปวช.1 : ม.4) | E44: ปวช.1 | F44: ปวช.1 = | G44: =+E24/C24*100 -> 27.929029
E45: ม.4 | F45: ม.4 = | G45: =+D24/C24*100 -> 72.070971

Sheet Sheet1
A2: ระดับชั้น | B2: 1.สำนักงานคณะกรรมการส่งเสริมการศึกษาเอกชน | C2: 2.สำนักงานคณะกรรมการการศึกษาขั้นพื้นฐาน | D2: 3.สำนักงานคณะกรรมการการอุดมศึกษา | E2: 4.สำนักงานคณะกรรมการการอาชีวศึกษา | F2: 4.สำนักงานคณะกรรมการการอาชีวศึกษา (สช) | G2: มหิดล | H2: รวม
A3: เตรียมอนุบาล | B3: 16244 | D3: 233 | E3: 0 | H3: =SUM(B3:G3) -> 16477
A4: อ.1 | B4: 188344 | C4: 1536 | D4: 851 | E4: 0 | H4: =SUM(B4:G4) -> 190731
A5: อ.2 | B5: 210271 | C5: 450186 | D5: 808 | E5: 0 | H5: =SUM(B5:G5) -> 661265
A6: อ.3 | B6: 199125 | C6: 445841 | D6: 717 | E6: 0 | H6: =SUM(B6:G6) -> 645683
A7: เด็กเล็ก | B7: 0 | C7: 0 | D7: 82 | E7: 0 | H7: =SUM(B7:G7) -> 82
A8: ปฐมวัย | B8: =SUM(B3:B7) -> 613984 | C8: =SUM(C3:C7) -> 897563 | D8: =SUM(D3:D7) -> 2691 | E8: =SUM(E3:E7) -> 0 | F8: =SUM(F3:F7) -> 0 | G8: =SUM(G3:G7) -> 0 | H8: =SUM(B8:G8) -> 1514238 | I8: =H8*100/H44 -> 12.820185
A9: ป.1 | B9: 182900 | C9: 529785 | D9: 1663 | E9: 0 | H9: =SUM(B9:G9) -> 714348
A10: ป.2 | B10: 182394 | C10: 517723 | D10: 1651 | E10: 0 | H10: =SUM(B10:G10) -> 701768
A11: ป.3 | B11: 180209 | C11: 527262 | D11: 1637 | E11: 0 | H11: =SUM(B11:G11) -> 709108
A12: ป.4 | B12: 175208 | C12: 535179 | D12: 1631 | E12: 0 | H12: =SUM(B12:G12) -> 712018
A13: ป.5 | B13: 169186 | C13: 542880 | D13: 1557 | E13: 0 | H13: =SUM(B13:G13) -> 713623
A14: ป.6 | B14: 166602 | C14: 551347 | D14: 1455 | E14: 0 | H14: =SUM(B14:G14) -> 719404
A15: ประถม | B15: =SUM(B9:B14) -> 1056499 | C15: =SUM(C9:C14) -> 3204176 | D15: =SUM(D9:D14) -> 9594 | E15: =SUM(E9:E14) -> 0 | F15: =SUM(F9:F14) -> 0 | G15: =SUM(G9:G14) -> 0 | H15: =SUM(B15:G15) -> 4270269 | I15: =H15*100/H44 -> 36.153921
A16: ม.1 | B16: 112551 | C16: 593653 | D16: 3329 | E16: 0 | H16: =SUM(B16:G16) -> 709533
A17: ม.2 | B17: 107370 | C17: 581468 | D17: 3175 | E17: 0 | H17: =SUM(B17:G17) -> 692013
A18: ม.3 | B18: 100893 | C18: 562387 | D18: 3070 | E18: 0 | H18: =SUM(B18:G18) -> 666350
A19: มัธยมต้น | B19: =SUM(B16:B18) -> 320814 | C19: =SUM(C16:C18) -> 1737508 | D19: =SUM(D16:D18) -> 9574 | E19: =SUM(E16:E18) -> 0 | F19: =SUM(F16:F18) -> 0 | G19: =SUM(G16:G18) -> 0 | H19: =SUM(B19:G19) -> 2067896 | I19: =H19*100/H44 -> 17.50769
A20: ม.4 | B20: 58069 | C20: 348661 | D20: 3345 | E20: 0 | G20: 240 | H20: =SUM(B20:G20) -> 410315
A21: ม.5 | B21: 52716 | C21: 332689 | D21: 3334 | E21: 0 | G21: 239 | H21: =SUM(B21:G21) -> 388978
A22: ม.6 | B22: 50171 | C22: 331335 | D22: 2934 | E22: 0 | G22: 234 | H22: =SUM(B22:G22) -> 384674
A23: มัธยมปลาย | B23: =SUM(B20:B22) -> 160956 | C23: =SUM(C20:C22) -> 1012685 | D23: =SUM(D20:D22) -> 9613 | E23: =SUM(E20:E22) -> 0 | F23: =SUM(F20:F22) -> 0 | G23: =SUM(G20:G22) -> 713 | H23: =SUM(B23:G23) -> 1183967 | I23: =H23*100/H44 -> 10.02397
A24: ปวช1 | B24: 0 | C24: 1517 | D24: n/a | E24: 169767 | F24: 78025 | H24: =SUM(B24:G24) -> 249309
A25: ปวช2 | B25: 0 | C25: 1505 | D25: n/a | E25: 131346 | F25: 66589 | H25: =SUM(B25:G25) -> 199440
A26: ปวช3 | B26: 0 | C26: 1318 | D26: n/a | E26: 143211 | F26: 63503 | H26: =SUM(B26:G26) -> 208032
A27: รวมปวช | B27: =SUM(B24:B26) -> 0 | C27: =SUM(C24:C26) -> 4340 | D27: =SUM(D24:D26) -> 0 | E27: =SUM(E24:E26) -> 444324 | F27: =SUM(F24:F26) -> 208117 | H27: =SUM(B27:G27) -> 656781 | I27: =H27*100/H44 -> 5.5605884
A28: ปวส.1/อนุปริญญา 1 | B28: 0 | C28: 0 | D28: 3322 | E28: 113706 | F28: 44483 | H28: =SUM(B28:G28) -> 161511
A29: ปวส.2/อนุปริญญา 2 | B29: 0 | C29: 0 | D29: 3370 | E29: 129031 | F29: 42147 | H29: =SUM(B29:G29) -> 174548
A30: ปวส.2/อนุปริญญา 3 | B30: 0 | C30: 0 | D30: 745 | E30: 0 | H30: =SUM(B30:G30) -> 745
A31: รวมปวส/อนุปริญญา | B31: =SUM(B28:B30) -> 0 | C31: =SUM(C28:C30) -> 0 | D31: =SUM(D28:D30) -> 7437 | E31: =SUM(E28:E30) -> 242737 | F31: =SUM(F28:F30) -> 86630 | H31: =SUM(B31:G31) -> 336804 | I31: =H31*100/H44 -> 2.8515265
A32: ป.ตรี1 | B32: 0 | C32: 0 | D32: 414631 | E32: 0 | H32: =SUM(B32:G32) -> 414631
A33: ป.ตรี2 | B33: 0 | C33: 0 | D33: 407722 | E33: 0 | H33: =SUM(B33:G33) -> 407722
A34: ป.ตรี3 | B34: 0 | C34: 0 | D34: 362052 | E34: 3721 | H34: =SUM(B34:G34) -> 365773
A35: ป.ตรี4 | B35: 0 | C35: 0 | D35: 309876 | E35: 3195 | H35: =SUM(B35:G35) -> 313071
A36: ป.ตรี5 | B36: 0 | C36: 0 | D36: 112356 | E36: 0 | H36: =SUM(B36:G36) -> 112356
A37: ป.ตรี6 | B37: 0 | C37: 0 | H37: =SUM(B37:G37) -> 0
A38: รวมป.ตรี | B38: =SUM(B32:B37) -> 0 | C38: =SUM(C32:C37) -> 0 | D38: =SUM(D32:D37) -> 1606637 | E38: =SUM(E32:E37) -> 6916 | F38: =SUM(F32:F37) -> 0 | H38: =SUM(B38:G38) -> 1613553 | I38: =H38*100/H44 -> 13.661029
A39: ป.บัณฑิต | B39: 0 | C39: 0 | D39: 8324 | H39: =SUM(B39:G39) -> 8324
A40: ป.โท | B40: 0 | C40: 0 | D40: 135116 | E40: 0 | H40: =SUM(B40:G40) -> 135116 | I40: =H40*100/H44 -> 1.1439497
A41: ป.บัณฑิตชั้นสูง | B41: 0 | C41: 0 | D41: 1039 | E41: 0 | H41: =SUM(B41:G41) -> 1039
A42: ป.เอก | B42: 0 | D42: 23371 | E42: 0 | H42: =SUM(B42:G42) -> 23371 | I42: =H42*100/H44 -> 0.19786886
A43: รวมสูงกว่าป.ตรี | B43: =SUM(B39:B42) -> 0 | C43: =SUM(C39:C42) -> 0 | D43: =SUM(D39:D42) -> 167850 | E43: =SUM(E39:E42) -> 0 | F43: =SUM(F39:F42) -> 0 | H43: =SUM(B43:G43) -> 167850
A44: รวม | B44: =SUM(B43,B38,B31,B27,B23,B19,B15,B8) -> 2152253 | C44: =SUM(C43,C38,C31,C27,C23,C19,C15,C8) -> 6856272 | D44: =SUM(D43,D38,D31,D27,D23,D19,D15,D8) -> 1813396 | E44: =SUM(E43,E38,E31,E27,E23,E19,E15,E8) -> 693977 | F44: =SUM(F43,F38,F31,F27,F23,F19,F15,F8) -> 294747 | G44: =SUM(G43,G38,G31,G27,G23,G19,G15,G8) -> 713 | H44: =SUM(H43,H38,H31,H27,H23,H19,H15,H8) -> 11811358 | J44: =SUM(H42,H40,H38,H31,H27,H23,H19,H15,H8) -> 11801995
