Workbook

Sheet ภาพรวม
B2: แบบข้อเสนองบประมาณรายจ่ายประจำปีงบประมาณ พ.ศ. 2560 (เบื้องต้น)
B3: กระทรวง : การพัฒนาสังคมและความมั่นคงของมนุษย์
B4: 1. หน่วยงาน : กรมกิจการเด็กและเยาวชน
K5: หน่วยล้านบาท (ทศนิยม 4 ตำแหน่ง)
B6: รายการ | C6: ปี 2559 | F6: ปี 2560 | I6: เพิ่ม/ลด | J6: เพิ่ม/ลด | K6: คำชี้แจง
C7: หน่วยนับ | D7: ปริมาณ | E7: เงิน | F7: หน่วยนับ | G7: ปริมาณ | H7: เงิน | J7: ร้อยละ
B8: รวมทั้งสิ้น | E8: =+E9+E10+E11+E12+E18 -> 2972.7934 | H8: =+H9+H10+H11+H12+H18 -> 4790.6413 | I8: =+H8-E8 -> 1817.8479 | J8: =+I8*100/H8 -> 37.945816
B9: 1. งบบุคลากร | C9: อัตรา | D9: =+แผนบุคลากร!D9 -> 2311 | E9: =+แผนบุคลากร!E9 -> 590.0776 | F9: =+C9 -> อัตรา | G9: =+แผนบุคลากร!G9 -> 2309 | H9: =+แผนบุคลากร!H9 -> 631.0657 | I9: =+H9-E9 -> 40.9881 | J9: =+I9*100/H9 -> 6.4950607
B10: 2. งบดำเนินงาน | E10: =+แผนบุคลากร!E10+งานตามภารกิจพื่นฐาน!E10+ยุทธศาสตร์!E10 -> 901.5163 | H10: =+แผนบุคลากร!H10+งานตามภารกิจพื่นฐาน!H10+ยุทธศาสตร์!H10 -> 1323.1166 | I10: =+H10-E10 -> 421.60034 | J10: =+I10*100/H10 -> 31.864185 | K10: =แผนบุคลากร!H8+งานตามภารกิจพื่นฐาน!H8+ยุทธศาสตร์!H8 -> 4790.6413
B11: 3. งบลงทุน | E11: =+แผนบุคลากร!E11+งานตามภารกิจพื่นฐาน!E11+ยุทธศาสตร์!E11 -> 474.8127 | H11: =+แผนบุคลากร!H11+งานตามภารกิจพื่นฐาน!H11+ยุทธศาสตร์!H11 -> 1094.9025 | I11: =+H11-E11 -> 620.0898 | J11: =+I11*100/H11 -> 56.634248
B12: 4. งบเงินอุดหนุน | E12: =+E16 -> 962.2178 | H12: =+H16 -> 1610.17 | I12: =+H12-E12 -> 647.9522 | J12: =+I12*100/H12 -> 40.241229
B13: - งบบุคลากร
B14: - งบดำเนินงาน
B15: - งบลงทุน
B16: - งบเงินอุดหนุน | E16: =+แผนบุคลากร!E16+งานตามภารกิจพื่นฐาน!E16+ยุทธศาสตร์!E16 -> 962.2178 | H16: =+แผนบุคลากร!H16+งานตามภารกิจพื่นฐาน!H16+ยุทธศาสตร์!H16 -> 1610.17 | I16: =+H16-E16 -> 647.9522 | J16: =+I16*100/H16 -> 40.241229
B17: - งบรายจ่ายอื่น
B18: 5. งบรายจ่ายอื่น | E18: =+E23 -> 44.169 | H18: =+H23 -> 131.3865 | I18: =+H18-E18 -> 87.2175 | J18: =+I18*100/H18 -> 66.382391
B19: - งบบุคลากร
B20: - งบดำเนินงาน
B21: - งบลงทุน
B22: - งบเงินอุดหนุน
B23: - งบรายจ่ายอื่น | E23: =+แผนบุคลากร!E23+งานตามภารกิจพื่นฐาน!E23+ยุทธศาสตร์!E23 -> 44.169 | H23: =+แผนบุคลากร!H23+งานตามภารกิจพื่นฐาน!H23+ยุทธศาสตร์!H23 -> 131.3865 | I23: =+H23-E23 -> 87.2175 | J23: =+I23*100/H23 -> 66.382391
B25: 2. หน่วยงาน กองทุนคุ้มครองเด็ก
B26: รายการ | C26: ปี 2559 | F26: ปี 2560 | I26: เพิ่ม/ลด | J26: เพิ่ม/ลด | K26: คำชี้แจง
C27: หน่วยนับ | D27: ปริมาณ | E27: เงิน | F27: หน่วยนับ | G27: ปริมาณ | H27: เงิน | J27: ร้อยละ
B28: รวมทั้งสิ้น | E28: =+E38 -> 75 | H28: =+H38 -> 200 | I28: =+H28-E28 -> 125 | J28: =+I28*100/H28 -> 62.5
B29: 1. งบบุคลากร | E29: - | F29: - | G29: - | H29: - | I29: - | J29: -
B30: 2. งบดำเนินงาน | E30: - | H30: - | I30: - | J30: -
B31: 3. งบลงทุน | E31: - | H31: - | I31: - | J31: -
B32: 4. งบเงินอุดหนุน | E32: - | H32: - | I32: - | J32: -
B33: - งบบุคลากร
B34: - งบดำเนินงาน
B35: - งบลงทุน
B36: - งบเงินอุดหนุน | E36: =+แผนบุคลากร!E36+งานตามภารกิจพื่นฐาน!E36+ยุทธศาสตร์!E36 -> 0 | H36: =+แผนบุคลากร!H36+งานตามภารกิจพื่นฐาน!H36+ยุทธศาสตร์!H36 -> 0 | I36: =+H36-E36 -> 0 | J36: =+I36*100/H36 -> #DIV/0!
B37: - งบรายจ่ายอื่น
B38: 5. งบรายจ่ายอื่น | E38: 75 | H38: 200 | I38: =+H38-E38 -> 125 | J38: =+I38*100/H38 -> 62.5

Sheet ภาพรวม (2)
B2: แบบข้อเสนองบประมาณรายจ่ายประจำปีงบประมาณ พ.ศ. 2560 (เบื้องต้น)
B3: กระทรวง : การพัฒนาสังคมและความมั่นคงของมนุษย์
B4: 1. หน่วยงาน : กรมกิจการเด็กและเยาวชน
K5: หน่วยล้านบาท (ทศนิยม 4 ตำแหน่ง)
B6: รายการ | C6: ปี 2559 | F6: ปี 2560 | I6: เพิ่ม/ลด | J6: เพิ่ม/ลด | K6: คำชี้แจง
C7: หน่วยนับ | D7: ปริมาณ | E7: เงิน | F7: หน่วยนับ | G7: ปริมาณ | H7: เงิน | J7: ร้อยละ
B8: รวมทั้งสิ้น | E8: =+E9+E10+E11+E12+E18 -> 2972.7934 | H8: =+H9+H10+H11+H12+H18 -> 4790.6413 | I8: =+H8-E8 -> 1817.8479 | J8: =+I8*100/H8 -> 37.945816 | K8: =H25+H53+H1074 -> 2266.0542
B9: 1. งบบุคลากร | C9: อัตรา | D9: =+แผนบุคลากร!D9 -> 2311 | E9: =+แผนบุคลากร!E9 -> 590.0776 | F9: =+C9 -> อัตรา | G9: =+แผนบุคลากร!G9 -> 2309 | H9: =+แผนบุคลากร!H9 -> 631.0657 | I9: =+H9-E9 -> 40.9881 | J9: =+I9*100/H9 -> 6.4950607
B10: 2. งบดำเนินงาน | E10: =+แผนบุคลากร!E10+งานตามภารกิจพื่นฐาน!E10+ยุทธศาสตร์!E10 -> 901.5163 | H10: =+แผนบุคลากร!H10+งานตามภารกิจพื่นฐาน!H10+ยุทธศาสตร์!H10 -> 1323.1166 | I10: =+H10-E10 -> 421.60034 | J10: =+I10*100/H10 -> 31.864185
B11: 3. งบลงทุน | E11: =+แผนบุคลากร!E11+งานตามภารกิจพื่นฐาน!E11+ยุทธศาสตร์!E11 -> 474.8127 | H11: =+แผนบุคลากร!H11+งานตามภารกิจพื่นฐาน!H11+ยุทธศาสตร์!H11 -> 1094.9025 | I11: =+H11-E11 -> 620.0898 | J11: =+I11*100/H11 -> 56.634248
B12: 4. งบเงินอุดหนุน | E12: =+E16 -> 962.2178 | H12: =+H16 -> 1610.17 | I12: =+H12-E12 -> 647.9522 | J12: =+I12*100/H12 -> 40.241229
B13: - งบบุคลากร
B14: - งบดำเนินงาน
B15: - งบลงทุน
B16: - งบเงินอุดหนุน | E16: =+แผนบุคลากร!E16+งานตามภารกิจพื่นฐาน!E16+ยุทธศาสตร์!E16 -> 962.2178 | H16: =+แผนบุคลากร!H16+งานตามภารกิจพื่นฐาน!H16+ยุทธศาสตร์!H16 -> 1610.17 | I16: =+H16-E16 -> 647.9522 | J16: =+I16*100/H16 -> 40.241229
B17: - งบรายจ่ายอื่น
B18: 5. งบรายจ่ายอื่น | E18: =+E23 -> 44.169 | H18: =+H23 -> 131.3865 | I18: =+H18-E18 -> 87.2175 | J18: =+I18*100/H18 -> 66.382391
B19: - งบบุคลากร
B20: - งบดำเนินงาน
B21: - งบลงทุน
B22: - งบเงินอุดหนุน
B23: - งบรายจ่ายอื่น | E23: =+แผนบุคลากร!E23+งานตามภารกิจพื่นฐาน!E23+ยุทธศาสตร์!E23 -> 44.169 | H23: =+แผนบุคลากร!H23+งานตามภารกิจพื่นฐาน!H23+ยุทธศาสตร์!H23 -> 131.3865 | I23: =+H23-E23 -> 87.2175 | J23: =+I23*100/H23 -> 66.382391
B25: แผนงานบุคลากรภาครัฐ | E25: =+E28+E42 -> 601.7003 | H25: =+H28+H42 -> 647.9133 | I25: =+H25-E25 -> 46.213 | J25: =+I25*100/H25 -> 7.1325901
B26: แผนงานรองบุคลากรภาครัฐเสริมสร้างสวัสดิการสังคมและยกระดับคุณภาพชีวิต
B27: รายการบุคลากรภาครัฐ /รายการงบกลาง...
B28: 1. งบบุคลากร | C28: อัตรา | D28: =+D29+D36+D39 -> 2311 | E28: =+E29+E36+E39 -> 590.0776 | F28: อัตรา | G28: =+G29+G36+G39 -> 2309 | H28: =+H29+H36+H39 -> 631.0657 | I28: =+H28-E28 -> 40.9881 | J28: =+I28*100/H28 -> 6.4950607 | K28: งบบุคลกรเพิ่มเนื่องจากปรับตามหลักเกณฑ์ที่สำนักงบประมาณกำหนด นอกจากนี้ ข้าราชการของ ดย. เกษียณ่จำนวน 21 อัตรา และได้ตั้งทดแทนผู้เกษียณตามฐานเงินเดือนขั้นต่ำทุกตำแหน่ง/ ลูกจ้างประจำ ของดย. ปี 2559 ได้เกษียณ 25 อัตราและลาออก 1 อัตรา / กรอบพนักงานราชการของ ได้ตั้งทดแทน จำนวน 24 อัตรา และ 2 อัตราไม่ได้ทดแทนเนื่องจากเป็นพนักงานขับรถ
B29: 1.1 เงินเดือนและค่าจ้างประจำ | C29: อัตรา | D29: =+D30+D34 -> 935 | E29: =+E30+E34 -> 306.6158 | F29: อัตรา | G29: =+G30+G34 -> 909 | H29: =+H30+H34+H33+H35 -> 333.0173 | I29: =+H29-E29 -> 26.4015 | J29: =+I29*100/H29 -> 7.9279665
B30: 1.1.1 เงินเดือน | C30: อัตรา | D30: 500 | E30: 202.2731 | F30: อัตรา | G30: 500 | H30: 208.726 | I30: =+H30-E30 -> 6.4529 | J30: =+I30*100/H30 -> 3.091565 | K30: ปี 2559 เกษียณ 21 อัตรา และปี 2560 ได้ตั้ง
B31: - อัตราเดิม | K31: ทดแทนผู้เกษียณ จำนวน 21 อัตรา
B32: - อัตราใหม่
B33: - เงินอื่นๆ ที่จ่ายควบกับเงินเดือน | H33: 10.8718 | I33: =+H33-E33 -> 10.8718 | J33: =+I33*100/H33 -> 100
B34: 1.1.2 ค่าจ้างประจำ | C34: อัตรา | D34: 435 | E34: 104.3427 | F34: อัตรา | G34: 409 | H34: 112.9695 | I34: =+H34-E34 -> 8.6268 | J34: =+I34*100/H34 -> 7.6363974 | K34: ปี 2558 ลาออกระหว่างปี 1 อัตรา เกษียณ 25 อัตรา ทดแทนกรอบเดิม 24 อัตรา / ทดแทนไม่ได้ 2 อัตรา (พ.ขับรถยนต์)
B35: เงินอื่นที่จ่ายควบค่าจ้างประจำ | H35: 0.45 | I35: =+H35-E35 -> 0.45 | J35: =+I35*100/H35 -> 100
B36: 1.2 ค่าจ้างชั่วคราวในต่างประเทศ | C36: อัตรา | D36: 0 | E36: 0 | F36: อัตรา | G36: 0 | H36: 0
B37: - อัตราเดิม
B38: - อัตราใหม่
B39: 1.3 ค่าตอบแทนพนักงานราชการ | C39: อัตรา | D39: 1376 | E39: 283.4618 | F39: อัตรา | G39: =+G40+G41 -> 1400 | H39: 298.0484 | I39: =+H39-E39 -> 14.5866 | J39: =+I39*100/H39 -> 4.8940373
B40: - อัตราเดิม | G40: 1376 | K40: อัตราเดิม 1,376 อัตรา งบประมาณ 293,015,600 บาท
B41: - อัตราใหม่ | G41: 24 | K41: ทดแทนผู้เกษียณปี 2560 จำนวน 24 อัตรา ประกอบด้วย ปริญญาตรี 18,000 x 21 อัตรา = 4,536,000 บาท/ ปวส. 13,800 x 3 อัตรา = 496,800 บาท
B42: 2. งบดำเนินงาน | D42: =+D44 -> 0 | E42: =+E43 -> 11.6227 | F42: =+F44 -> 0 | G42: =+G44 -> 0 | H42: =+H43 -> 16.8476 | I42: =+H42-E42 -> 5.2249 | J42: =+I42*100/H42 -> 31.012726
B43: 2.1 ค่าตอบแทน ใช้สอยและวัสดุ | E43: =+E44+E47 -> 11.6227 | H43: =+H44+H47 -> 16.8476 | I43: =+H43-E43 -> 5.2249 | J43: =+I43*100/H43 -> 31.012726
B44: 2.1.1 ค่าตอบแทน พิเศษเงินเดือนเต็มขั้น | D44: =+D45+D46 -> 0 | E44: =+E45+E46 -> 0 | F44: =+F45+F46 -> 0 | G44: =+G45+G46 -> 0 | H44: 2.5 | I44: =+H44-E44 -> 2.5 | J44: =+I44*100/H44 -> 100
B45: (1)........................
B46: (2).......................
B47: 2.1.2 ค่าใช้สอย | D47: =+D48 -> 0 | E47: =+E48 -> 11.6227 | F47: =+F48 -> 0 | G47: =+G48 -> 0 | H47: =+H48 -> 14.3476 | I47: =+H47-E47 -> 2.7249 | J47: =+I47*100/H47 -> 18.992027
B48: (1) เงินสมทบกองทุนประกันสังคม | E48: 11.6227 | H48: 14.3476 | I48: =+H48-E48 -> 2.7249 | J48: =+I48*100/H48 -> 18.992027 | K48: เพื่อขึ้นเนื่องจากมีการปรับเงินเดือนของพนักงานราชการและพนักงานราชการเพิ่มขึ้น ปี 59 ส่วนกลาง 2.5289 ลบ./สถานสงเคราะห์ 4.0438 ลบ. /บพด. 5.0500 ลบ.
B49: 3. งบเงินอุดหนุน
B50: (ให้แสดงค่าใช้จ่ายตามแบบงบบุคลากรและงบดำเนินงานที่กำหนดข้างต้น)
B51: 4. งบรายจ่ายอื่น
B52: (ให้แสดงค่าใช้จ่ายตามแบบงบบุคลากรและงบดำเนินงานที่กำหนดข้างต้น)
B53: แผนงานพื้นฐาน | E53: =+E54 -> 7018.6417 | I53: =+H53-E53 -> -7018.6417 | J53: =+I53*100/H53 -> #DIV/0!
B54: แผนงานพื้นฐานด้านการแก้ไขปัญหาความยากจน ลดความเหลื่อมล้ำและสร้างการเติบโตจากภายใน | E54: =+E56 -> 7018.6417 | H54: =+H56 -> 12734.234 | I54: =+H54-E54 -> 5715.5928 | J54: =+I54*100/H54 -> 44.883678
B55: แผนงานรอง............
B56: ผลผลิต/โครงการ : เด็กและเยาวชนได้รับการพัฒนาและคุ้มครองพิทักษ์สิทธิ | E56: =+E57+E202+E334+E456+E560+E704+E824+E902+E973 -> 7018.6417 | H56: =+H57+H202+H334+H456+H560+H704+H824+H902+H973 -> 12734.234 | I56: =+H56-E56 -> 5715.5928 | J56: =+I56*100/H56 -> 44.883678
B57: 1. กิจกรรม : การพัฒนาระบบบริหารจัดการองค์การ | E57: =+E59+E167+E190+E195 -> 51.9767 | H57: =+H59+H167+H190+H195 -> 75.1381 | I57: =+H57-E57 -> 23.1614 | J57: =+I57*100/H57 -> 30.825107
B58: ตัวชี้วัดเชิงปริมาณ :
B59: 1. งบดำเนินงาน | E59: =+E60+E160 -> 51.4997 | H59: =+H60+H160 -> 65.4829 | I59: =+H59-E59 -> 13.9832 | J59: =+I59*100/H59 -> 21.353972
B60: 1.1 ค่าตอบแทน ใช้สอยและวัสดุ | E60: =+E61+E82+E147 -> 44.7138 | H60: =+H61+H82+H147 -> 56.0692 | I60: =+H60-E60 -> 11.3554 | J60: =+I60*100/H60 -> 20.252474
B61: 1.1.1 ค่าตอบแทน | E61: =SUM(E62:E81) -> 7.0359 | H61: =SUM(H62:H81) -> 5.8907 | I61: =+H61-E61 -> -1.1452 | J61: =+I61*100/H61 -> -19.440813
B62: (1) ค่าเช่าบ้าน | E62: 2.777 | H62: 0.786 | I62: =+H62-E62 -> -1.991 | J62: =+I62*100/H62 -> -253.30789 | K62: ค่าเช่าบ้านลดลงเนื่องจากบุคลกร ได้โยกย้ายตาม พรบ.ปรับปรุงกระทรวง ทบวง กรม พ.ศ. 2558 ของ กระทรวง พม.
K63: - ปี 2560 มีข้าราชการได้รับค่าเช่าบ้าน จำนวน 17 อัตรา ประกอบด้วย 4,000 x 12 เดือน x 15 คน/ 3,300 x 12 เดือน x 1 คน/ 2,200 x 12 เดือน x 1 คน
B64: (2) ค่าตอบแทนผู้ปฏิบัติงานให้ราชการ | E64: 0.9635 | H64: 0.156 | I64: =+H64-E64 -> -0.8075 | J64: =+I64*100/H64 -> -517.62821 | K64: ค่าตอบแทนผู้ปฏิบัติงานให้ราชกาช ลดลงเนื่องจากมีการปรับภารกิจและกระบวนการทำให้สอดคล้องกับสภาพสังคมปัจจุบัน ทำให้ลดค่าใช้จ่ายลด และได้ตั้งค่าใช้จ่ายเฉพาะในภารกิจที่จำเป็น เช่น
K65: - ค่าตอบแทนกรรมการอ่านผลงานประเมินเลื่อนระดับ คณะละ 3 คน * 1,000 * 50 เล่ม = 150,000 บาท
K66: - กรรมการตัดสินการประกวดนวตกรรม ดย. 6,001
B67: (3) ค่าเบี้ยประชุมกรรมการ | E67: 1.6693 | H67: 1.4905 | I67: =+H67-E67 -> -0.1788 | J67: =+I67*100/H67 -> -11.995975 | K67: ค่าเบี้ยกรรมการลดลงเนื่องจากได้มีลดขั้นตอนในการทำงาน และปรับลดคณะกรรมการต่างๆ มีการบูรณาการทำงานเพิ่มขึ้นทำให้ค่าเบี้ยประชุมคณะกรรมการลดลง ในปี2560 ได้ตั้งค่าเบี้ยประชุมคณะกรรมการ 5 คณะ ดังนี้
K68: - คณะอนุกรรมการปรับปรุงกฎหมายเกียวกับเด็กให้เป็นไปตามาตรฐานของรัฐธรรมนูญและอนุสัญญาว่าด้วยสิทธิเด็ก 29 คน ประชุมเดือนละ 2-3 ครั้ง 877,500 บาท
K69: - คณะอนุกรรการป้องกัน แก้ไขและขจัดการขาดสารไอโอดีนในเด็กและเยาวชน 31 คน ประชุมเดือนละ 1 ครั้ง 375,000 บาท
K70: - คณะกรรมการการสอบ่ข้อเท็จจริงความรับผิดทางละเมิด 7 คณะ ๆ ละ 5 คน ประชุม 4 ครั้ง 176,400 บาท
K71: - คณะกรรมการคุ้มครองจริยธรรม 4 ครั้ง จำนวน 7 คน 34,800 บาท
K72: - คณะอนุกรรมการ อกพ. กรม 2 ครั้ง 12 คน 26,750
B73: (4) ค่าตอบแทนผู้ปฏิบัติงานนอกเวลาราชการ | E73: 1.0165 | H73: =1.0905+2-0.2419 -> 2.8486 | I73: =+H73-E73 -> 1.8321 | J73: =+I73*100/H73 -> 64.315804 | K73: เป็นค่าอาหารทำการนอกเวลาราชการของ จนท. ที่ปฏิบัติงานทั้งวันธรรมดาและวันหยุดราชการกรณีมีกรณีเร่งด่วน
K74: เช่น ระบบ PMQA การจัดทำคำรับรองและตัวชี้วัด 22,000
K75: - งานเผยแพร่ประชาสัมพันธ์องค์กร 60,000
K76: - งานตรวจสอบภายใน 51,500
K77: - งานจัดซื้อจัดจ้าง และอาคารสถานที่ 152,600
K78: - งานพัฒนาบุคลากรและงานบริทารทรัพยากรมนุษย์ 662,400
K79: - งานบริหารการเงินและบัญชี 142,000
K80: - งบบริหารจัดการ สลก. 2.000 ลบ.
B81: (5) ค่าตอบแทนเหมาจ่ายแทนการจัดหารถประจำตำแหน่ง | E81: 0.6096 | H81: 0.6096 | I81: =+H81-E81 -> 0 | J81: =+I81*100/H81 -> 0 | K81: รองอธิบดี 2 ท่าน เนื่องจากอธิบดีมีรถประจำตำแหน่ง
B82: 1.1.2 ค่าใช้สอย | E82: =SUM(E84:E134) -> 34.1573 | H82: =SUM(H84:H134) -> 46.8577 | I82: =+H82-E82 -> 12.7004 | J82: =+I82*100/H82 -> 27.10419
B83: รายการไม่ผูกพัน
B84: (1) ค่าเบี้ยเลี้ยง ค่าเช่าที่พัก และค่าพาหนะ | E84: =0.6351+1.294+0.454 -> 2.3831 | H84: =4.1472+2 -> 6.1472 | I84: =+H84-E84 -> 3.7641 | J84: =+I84*100/H84 -> 61.232756 | K84: ค่าใช้จ่ายในการสำรวจพื้นที่และติดตามการดำเนินงาน
K85: - โครงการส่งเสริมการพัฒนาระบบบริหาร ดย. 0.4828 ลบ.
K86: -การเผยแพร่ประชาสัมพันธ์งานของ ดย. 0.3120
K87: - การติดตามของหน่วยตรวจสอบภายในของหน่วยงาน 107 หน่วย 0.6790 ลบ.
K88: - ของคณะกรรมการสอบข้อเท็จจริง ต่างจังหวัด 0.5622
K89: - คณะกรรมการจริยธรรม ดย. 0.0112
K90: - ค่าใช้จ่ายสำหรับผู้เข้าร่วมอบรมของหน่วยงานภูมิภาค 107 แห่ง 2.1000 ลบ.
K91: - ค่าใช้จ่ายในการติดตามงานของผู้บริหาร 2.000 ลบ.
B92: (2) ค่าซ่อมแซมยานพาหนะและขนส่ง | E92: 0.3 | H92: 0.33 | I92: =+H92-E92 -> 0.03 | J92: =+I92*100/H92 -> 9.0909091 | K92: ค่าบำรุงรักษารถยนต์ส่วนกลาง 25 คน โดยเป็นค่าวัสดุ อุปกรณ์และอาหลั่ยรถยนต์ และค่าแรงงานเพื่อให้รถมีสมรรถในการใช้งานได้อย่างมีประสิทธิภาพ
B93: (3) ค่าซ่อมแซมครุภัณฑ์ | E93: 0.25 | H93: =+ 0.27+0.1 -> 0.37 | I93: =+H93-E93 -> 0.12 | J93: =+I93*100/H93 -> 32.432432 | K93: ค่าใช้จ่ายในการซ่อมแซมครุภัณฑ์ในส่วนกลางของ ดย./ซ่อมแซมครุภัณฑ์โสตทัศนูปกรณ์ ของ ดย.
B94: (4) ค่าซ่อมแซมสิ่งก่อสร้าง | E94: 0.3 | H94: 0.33 | I94: =+H94-E94 -> 0.03 | J94: =+I94*100/H94 -> 9.0909091 | K94: ค่าใช้จ่ายในการซ๋อมบำรุงอาคาร เพื่อให้ความปลอดภัยสำหรับบุคลากรและผู้มาติดต่อประสานงาน
B95: (5) ค่าเช่าทรัพย์สิน (ที่ดิน) | E95: 6.9073 | H95: 7.598 | I95: =+H95-E95 -> 0.6907 | J95: =+I95*100/H95 -> 9.0905501 | K95: เช่าที่ดินของการรถไฟ ปี 3 ปี 2560-2562 อยู่ระหว่างการทำสัญญากับการรถไฟแห่งประเทศไทย
B96: (6) ค่าจ้างเหมาบริการ | E96: =1.7+1.5+0.1+0.03+1.5+7.737+0.9484+2.0365+1.2+0.03 -> 16.7819 | H96: 12.6442 | I96: =+H96-E96 -> -4.1377 | J96: =+I96*100/H96 -> -32.724095 | K96: ค่าจ้างเหมาบริการสำหรับงานสนับสนุน เช่น | L96: =SUM(L97:L116) -> 12644200
B97: - ค่าจ้างพนักงานรักษาความปลอดภัย | K97: ดำเนินงานตามมติครม. เมื่อวันที่ 13 ม.ค. 47 โดยจ้าง รปภ. จากองค์การสงเคราะห์ทหารผ่านศึกในพระบรมราชูปถัมภ์ จำนวน 7 คน ในการรักษาความปลอดภัยอาคารสำนักงาน 3 อาคาร โดยองค์การฯ จะเป็นผู้จัดหาแรงงาน เครื่องมือ และวัสดุอุปกรณ์ 2.000 ลบ. | L97: 2000000
B98: - ค่าจ้างทำความสะอาดอาคารสถานที่ | K98: จ้างเหมาเอกชนในการทำความสะอาดอาคารสถานที่ จำนวน 3 อาคาร ตึก 6 ขั้น ตึก 3 ชั้น และอาคารบ้านราชวิถี 2 ขั้น 2.0000 ลบ. | L98: 2000000
B99: - ค่าจ้างกำจัดปลวก | K99: เนื่องจากอาคารทีทำการเป็นพื้นไม้และมีการก่อสร้างนานมาแล้วทำให้มีปลวก แมลงสาบและหนูในบริเวณอาคารทำให้ต้องมีการกำจัด เพื่อสุขอนามัยและสภาพแวดล้อมที่ดี .0350 ลบ. | L99: 35000
B100: - ค่าบำรุงรักษาลิฟท์ | K100: ค่าใช้จ่ายในการซ่อมบำรุงรักษาลิฟท์เนื่องจาก มีอายุการใช้งานนานแล้ว 0.0300 ลบ. | L100: 30000
B101: - ค่าจ้างเก็บขยะรายปี | K101: ค่าเก็บขยะรายปีของ กทม. 0.0200 ลบ. | L101: 20000
B102: - ค่าจ้างเหมาดูแลสวน | K102: ค่าใช้จ่ายในการตกแต่งและบำรุงรักษาสวนหย่อมให้มีความสมบูรณ์และสวยงาม 0.1000 ลบ. | L102: 100000
...

Sheet แผนบุคลากร
B2: แบบข้อเสนองบประมาณรายจ่ายประจำปีงบประมาณ พ.ศ. 2560 (เบื้องต้น)
B3: กระทรวง : การพัฒนาสังคมและความมั่นคงของมนุษย์
B4: หน่วยงาน : กรมกิจการเด็กและเยาวชน
K5: หน่วยล้านบาท (ทศนิยม 4 ตำแหน่ง)
B6: รายการ | C6: ปี 2559 | F6: ปี 2560 | I6: เพิ่ม/ลด | J6: เพิ่ม/ลด | K6: คำชี้แจง
C7: หน่วยนับ | D7: ปริมาณ | E7: เงิน | F7: หน่วยนับ | G7: ปริมาณ | H7: เงิน | J7: ร้อยละ
B8: รวมทั้งสิ้น | E8: =+E9+E10+E11+E12+E18 -> 601.7003 | H8: =+H9+H10+H11+H12+H18 -> 647.9133
B9: 1. งบบุคลากร | C9: อัตรา | D9: =+D27 -> 2311 | E9: =+E27 -> 590.0776 | F9: =+F27 -> อัตรา | G9: =+G27 -> 2309 | H9: =+H27 -> 631.0657 | I9: =+H9-E9 -> 40.9881 | J9: =+I9*100/H9 -> 6.4950607
B10: 2. งบดำเนินงาน | E10: =+E41 -> 11.6227 | H10: =+H41 -> 16.8476 | I10: =+H10-E10 -> 5.2249 | J10: =+I10*100/H10 -> 31.012726
B11: 3. งบลงทุน
B12: 4. งบเงินอุดหนุน
B13: - งบบุคลากร
B14: - งบดำเนินงาน
B15: - งบลงทุน
B16: - งบเงินอุดหนุน
B17: - งบรายจ่ายอื่น
B18: 5. งบรายจ่ายอื่น
B19: - งบบุคลากร
B20: - งบดำเนินงาน
B21: - งบลงทุน
B22: - งบเงินอุดหนุน
B23: - งบรายจ่ายอื่น
B24: แผนงานบุคลากรภาครัฐ | E24: =+E27+E41 -> 601.7003 | H24: =+H27+H41 -> 647.9133 | I24: =+H24-E24 -> 46.213 | J24: =+I24*100/H24 -> 7.1325901
B25: แผนงานรองบุคลากรภาครัฐเสริมสร้างสวัสดิการสังคมและยกระดับคุณภาพชีวิต
B26: รายการบุคลากรภาครัฐ /รายการงบกลาง...
B27: 1. งบบุคลากร | C27: อัตรา | D27: =+D28+D35+D38 -> 2311 | E27: =+E28+E35+E38 -> 590.0776 | F27: อัตรา | G27: =+G28+G35+G38 -> 2309 | H27: =+H28+H35+H38 -> 631.0657 | I27: =+H27-E27 -> 40.9881 | J27: =+I27*100/H27 -> 6.4950607 | K27: งบบุคลกรเพิ่มเนื่องจากปรับตามหลักเกณฑ์ที่สำนักงบประมาณกำหนด นอกจากนี้ ข้าราชการของ ดย. เกษียณ่จำนวน 21 อัตรา และได้ตั้งทดแทนผู้เกษียณตามฐานเงินเดือนขั้นต่ำทุกตำแหน่ง/ ลูกจ้างประจำ ของดย. ปี 2559 ได้เกษียณ 25 อัตราและลาออก 1 อัตรา / กรอบพนักงานราชการของ ได้ตั้งทดแทน จำนวน 24 อัตรา และ 2 อัตราไม่ได้ทดแทนเนื่องจากเป็นพนักงานขับรถ
B28: 1.1 เงินเดือนและค่าจ้างประจำ | C28: อัตรา | D28: =+D29+D33 -> 935 | E28: =+E29+E33 -> 306.6158 | F28: อัตรา | G28: =+G29+G33 -> 909 | H28: =+H29+H33+H32+H34 -> 333.0173 | I28: =+H28-E28 -> 26.4015 | J28: =+I28*100/H28 -> 7.9279665
B29: 1.1.1 เงินเดือน | C29: อัตรา | D29: 500 | E29: 202.2731 | F29: อัตรา | G29: 500 | H29: 208.726 | I29: =+H29-E29 -> 6.4529 | J29: =+I29*100/H29 -> 3.091565 | K29: ปี 2559 เกษียณ 21 อัตรา และปี 2560 ได้ตั้ง
B30: - อัตราเดิม | K30: ทดแทนผู้เกษียณ จำนวน 21 อัตรา
B31: - อัตราใหม่
B32: - เงินอื่นๆ ที่จ่ายควบกับเงินเดือน | H32: 10.8718 | I32: =+H32-E32 -> 10.8718 | J32: =+I32*100/H32 -> 100
B33: 1.1.2 ค่าจ้างประจำ | C33: อัตรา | D33: 435 | E33: 104.3427 | F33: อัตรา | G33: 409 | H33: 112.9695 | I33: =+H33-E33 -> 8.6268 | J33: =+I33*100/H33 -> 7.6363974 | K33: ปี 2558 ลาออกระหว่างปี 1 อัตรา เกษียณ 25 อัตรา ทดแทนกรอบเดิม 24 อัตรา / ทดแทนไม่ได้ 2 อัตรา (พ.ขับรถยนต์)
B34: เงินอื่นที่จ่ายควบค่าจ้างประจำ | H34: 0.45 | I34: =+H34-E34 -> 0.45 | J34: =+I34*100/H34 -> 100
B35: 1.2 ค่าจ้างชั่วคราวในต่างประเทศ | C35: อัตรา | D35: 0 | E35: 0 | F35: อัตรา | G35: 0 | H35: 0
B36: - อัตราเดิม
B37: - อัตราใหม่
B38: 1.3 ค่าตอบแทนพนักงานราชการ | C38: อัตรา | D38: 1376 | E38: 283.4618 | F38: อัตรา | G38: =+G39+G40 -> 1400 | H38: 298.0484 | I38: =+H38-E38 -> 14.5866 | J38: =+I38*100/H38 -> 4.8940373
B39: - อัตราเดิม | G39: 1376 | K39: อัตราเดิม 1,376 อัตรา งบประมาณ 293,015,600 บาท
B40: - อัตราใหม่ | G40: 24 | K40: ทดแทนผู้เกษียณปี 2560 จำนวน 24 อัตรา ประกอบด้วย ปริญญาตรี 18,000 x 21 อัตรา = 4,536,000 บาท/ ปวส. 13,800 x 3 อัตรา = 496,800 บาท
B41: 2. งบดำเนินงาน | D41: =+D43 -> 0 | E41: =+E42 -> 11.6227 | F41: =+F43 -> 0 | G41: =+G43 -> 0 | H41: =+H42 -> 16.8476 | I41: =+H41-E41 -> 5.2249 | J41: =+I41*100/H41 -> 31.012726
B42: 2.1 ค่าตอบแทน ใช้สอยและวัสดุ | E42: =+E43+E46 -> 11.6227 | H42: =+H43+H46 -> 16.8476 | I42: =+H42-E42 -> 5.2249 | J42: =+I42*100/H42 -> 31.012726
B43: 2.1.1 ค่าตอบแทน พิเศษเงินเดือนเต็มขั้น | D43: =+D44+D45 -> 0 | E43: =+E44+E45 -> 0 | F43: =+F44+F45 -> 0 | G43: =+G44+G45 -> 0 | H43: 2.5 | I43: =+H43-E43 -> 2.5 | J43: =+I43*100/H43 -> 100
B44: (1)........................
B45: (2).......................
B46: 2.1.2 ค่าใช้สอย | D46: =+D47 -> 0 | E46: =+E47 -> 11.6227 | F46: =+F47 -> 0 | G46: =+G47 -> 0 | H46: =+H47 -> 14.3476 | I46: =+H46-E46 -> 2.7249 | J46: =+I46*100/H46 -> 18.992027
B47: (1) เงินสมทบกองทุนประกันสังคม | E47: 11.6227 | H47: 14.3476 | I47: =+H47-E47 -> 2.7249 | J47: =+I47*100/H47 -> 18.992027 | K47: เพื่อขึ้นเนื่องจากมีการปรับเงินเดือนของพนักงานราชการและพนักงานราชการเพิ่มขึ้น ปี 59 ส่วนกลาง 2.5289 ลบ./สถานสงเคราะห์ 4.0438 ลบ. /บพด. 5.0500 ลบ.
B48: 3. งบเงินอุดหนุน
B49: (ให้แสดงค่าใช้จ่ายตามแบบงบบุคลากรและงบดำเนินงานที่กำหนดข้างต้น)
B50: 4. งบรายจ่ายอื่น
B51: (ให้แสดงค่าใช้จ่ายตามแบบงบบุคลากรและงบดำเนินงานที่กำหนดข้างต้น)
B52: หมายเหตุ
B53: 1.ที่มาของกิจกรรม ให้ระบุที่มาของกิจกรรม หรือความจำเป็นที่ต้องดำเนินการกิจกรรม โดยเลือกหัวข้อที่สำคัญที่สุดเพียงหัวข้อเดียว
B54: 2. ค่าจ้างเหมาบุคลากรช่วยปฏิบัติงาน ให้แสดงรายละเอียดค่าจ้างเหมาบุคลากรช่วยปฏิบัติงาน โดยระบุรายการและจำนวนอัตรา (แยกออกจากค่าจ้างเหมาบริการ) เฉพาะงานที่ส่วนราชการเป็นผู้จ้างเหมาโดยตรง
B55: ไม่รวมค่าจ้างเหมาเอกชนในลักษณะ outsource

Sheet งานตามภารกิจพื่นฐาน
B2: แบบข้อเสนองบประมาณรายจ่ายประจำปีงบประมาณ พ.ศ. 2560 (เบื้องต้น)
B3: กระทรวง : การพัฒนาสังคมและความมั่นคงของมนุษย์
B4: หน่วยงาน : กรมกิจการเด็กและเยาวชน
E5: =+แผนบุคลากร!E8+งานตามภารกิจพื่นฐาน!E8 -> 2114.473 | K5: หน่วยล้านบาท (ทศนิยม 4 ตำแหน่ง)
B6: รายการ | C6: ปี 2559 | F6: ปี 2560 | I6: เพิ่ม/ลด | J6: เพิ่ม/ลด | K6: คำชี้แจง
C7: หน่วยนับ | D7: ปริมาณ | E7: เงิน | F7: หน่วยนับ | G7: ปริมาณ | H7: เงิน | J7: ร้อยละ
B8: รวมทั้งสิ้น | E8: =+E9+E10+E11+E12+E18 -> 1512.7727 | H8: =+H9+H10+H11+H12+H18 -> 2524.5871 | I8: =+H8-E8 -> 1011.8144 | J8: =+I8*100/H8 -> 40.078412
B9: 1. งบบุคลากร
B10: 2. งบดำเนินงาน | E10: =E30+E175+E307+E429+E533+E677+E797+E875+E946 -> 711.9203 | H10: =H30+H175+H307+H429+H533+H677+H797+H875+H946 -> 1068.1981 | I10: =+H10-E10 -> 356.27782 | J10: =+I10*100/H10 -> 33.353159
B11: 3. งบลงทุน | E11: =+E138+E270+E384+E501+E644+E766+E841+E914+E1015 -> 474.8127 | H11: =+H138+H270+H384+H501+H644+H766+H841+H914+H1015 -> 1094.9025 | I11: =+H11-E11 -> 620.0898 | J11: =+I11*100/H11 -> 56.634248
B12: 4. งบเงินอุดหนุน | E12: =+E16 -> 288.7607 | H12: =+H16 -> 302.1 | I12: =+H12-E12 -> 13.3393 | J12: =+I12*100/H12 -> 4.4155247
B13: - งบบุคลากร
B14: - งบดำเนินงาน
B15: - งบลงทุน
B16: - งบเงินอุดหนุน | E16: =+E161+E293+E409+E524+E667+E789+E864+E939+E1038 -> 288.7607 | H16: =+H161+H293+H409+H524+H667+H789+H864+H939+H1038 -> 302.1 | I16: =+H16-E16 -> 13.3393 | J16: =+I16*100/H16 -> 4.4155247
B17: - งบรายจ่ายอื่น
B18: 5. งบรายจ่ายอื่น | E18: =+E23 -> 37.279 | H18: =+H23 -> 59.3865 | I18: =+H18-E18 -> 22.1075 | J18: =+I18*100/H18 -> 37.226474
B19: - งบบุคลากร
B20: - งบดำเนินงาน
B21: - งบลงทุน
B22: - งบเงินอุดหนุน
B23: - งบรายจ่ายอื่น | E23: =E166+E298+E414+E529+E672+E792+E867+E942+E1043 -> 37.279 | H23: =H166+H298+H414+H529+H672+H792+H867+H942+H1043 -> 59.3865 | I23: =+H23-E23 -> 22.1075 | J23: =+I23*100/H23 -> 37.226474
B24: แผนงานพื้นฐาน | E24: =+E25 -> 1512.7727 | H24: =+H25 -> 2524.5871 | I24: =+H24-E24 -> 1011.8144 | J24: =+I24*100/H24 -> 40.078412
B25: แผนงานพื้นฐานด้านการแก้ไขปัญหาความยากจน ลดความเหลื่อมล้ำและสร้างการเติบโตจากภายใน | E25: =+E27 -> 1512.7727 | H25: =+H27 -> 2524.5871 | I25: =+H25-E25 -> 1011.8144 | J25: =+I25*100/H25 -> 40.078412
B26: แผนงานรอง............
B27: ผลผลิต/โครงการ : เด็กและเยาวชนได้รับการพัฒนาและคุ้มครองพิทักษ์สิทธิ | E27: =+E28+E173+E305+E427+E531+E675+E795+E873+E944 -> 1512.7727 | H27: =+H28+H173+H305+H427+H531+H675+H795+H873+H944 -> 2524.5871 | I27: =+H27-E27 -> 1011.8144 | J27: =+I27*100/H27 -> 40.078412
B28: 1. กิจกรรม : การพัฒนาระบบบริหารจัดการองค์การ | E28: =+E30+E138+E161+E166 -> 51.9767 | H28: =+H30+H138+H161+H166 -> 75.1381 | I28: =+H28-E28 -> 23.1614 | J28: =+I28*100/H28 -> 30.825107
B29: ตัวชี้วัดเชิงปริมาณ :
B30: 1. งบดำเนินงาน | E30: =+E31+E131 -> 51.4997 | H30: =+H31+H131 -> 65.4829 | I30: =+H30-E30 -> 13.9832 | J30: =+I30*100/H30 -> 21.353972
B31: 1.1 ค่าตอบแทน ใช้สอยและวัสดุ | E31: =+E32+E53+E118 -> 44.7138 | H31: =+H32+H53+H118 -> 56.0692 | I31: =+H31-E31 -> 11.3554 | J31: =+I31*100/H31 -> 20.252474
B32: 1.1.1 ค่าตอบแทน | E32: =SUM(E33:E52) -> 7.0359 | H32: =SUM(H33:H52) -> 5.8907 | I32: =+H32-E32 -> -1.1452 | J32: =+I32*100/H32 -> -19.440813
B33: (1) ค่าเช่าบ้าน | E33: 2.777 | H33: 0.786 | I33: =+H33-E33 -> -1.991 | J33: =+I33*100/H33 -> -253.30789 | K33: ค่าเช่าบ้านลดลงเนื่องจากบุคลกร ได้โยกย้ายตาม พรบ.ปรับปรุงกระทรวง ทบวง กรม พ.ศ. 2558 ของ กระทรวง พม.
K34: - ปี 2560 มีข้าราชการได้รับค่าเช่าบ้าน จำนวน 17 อัตรา ประกอบด้วย 4,000 x 12 เดือน x 15 คน/ 3,300 x 12 เดือน x 1 คน/ 2,200 x 12 เดือน x 1 คน
B35: (2) ค่าตอบแทนผู้ปฏิบัติงานให้ราชการ | E35: 0.9635 | H35: 0.156 | I35: =+H35-E35 -> -0.8075 | J35: =+I35*100/H35 -> -517.62821 | K35: ค่าตอบแทนผู้ปฏิบัติงานให้ราชกาช ลดลงเนื่องจากมีการปรับภารกิจและกระบวนการทำให้สอดคล้องกับสภาพสังคมปัจจุบัน ทำให้ลดค่าใช้จ่ายลด และได้ตั้งค่าใช้จ่ายเฉพาะในภารกิจที่จำเป็น เช่น
K36: - ค่าตอบแทนกรรมการอ่านผลงานประเมินเลื่อนระดับ คณะละ 3 คน * 1,000 * 50 เล่ม = 150,000 บาท
K37: - กรรมการตัดสินการประกวดนวตกรรม ดย. 6,001
B38: (3) ค่าเบี้ยประชุมกรรมการ | E38: 1.6693 | H38: 1.4905 | I38: =+H38-E38 -> -0.1788 | J38: =+I38*100/H38 -> -11.995975 | K38: ค่าเบี้ยกรรมการลดลงเนื่องจากได้มีลดขั้นตอนในการทำงาน และปรับลดคณะกรรมการต่างๆ มีการบูรณาการทำงานเพิ่มขึ้นทำให้ค่าเบี้ยประชุมคณะกรรมการลดลง ในปี2560 ได้ตั้งค่าเบี้ยประชุมคณะกรรมการ 5 คณะ ดังนี้
K39: - คณะอนุกรรมการปรับปรุงกฎหมายเกียวกับเด็กให้เป็นไปตามาตรฐานของรัฐธรรมนูญและอนุสัญญาว่าด้วยสิทธิเด็ก 29 คน ประชุมเดือนละ 2-3 ครั้ง 877,500 บาท
K40: - คณะอนุกรรการป้องกัน แก้ไขและขจัดการขาดสารไอโอดีนในเด็กและเยาวชน 31 คน ประชุมเดือนละ 1 ครั้ง 375,000 บาท
K41: - คณะกรรมการการสอบ่ข้อเท็จจริงความรับผิดทางละเมิด 7 คณะ ๆ ละ 5 คน ประชุม 4 ครั้ง 176,400 บาท
K42: - คณะกรรมการคุ้มครองจริยธรรม 4 ครั้ง จำนวน 7 คน 34,800 บาท
K43: - คณะอนุกรรมการ อกพ. กรม 2 ครั้ง 12 คน 26,750
B44: (4) ค่าตอบแทนผู้ปฏิบัติงานนอกเวลาราชการ | E44: 1.0165 | H44: =1.0905+2-0.2419 -> 2.8486 | I44: =+H44-E44 -> 1.8321 | J44: =+I44*100/H44 -> 64.315804 | K44: เป็นค่าอาหารทำการนอกเวลาราชการของ จนท. ที่ปฏิบัติงานทั้งวันธรรมดาและวันหยุดราชการกรณีมีกรณีเร่งด่วน
K45: เช่น ระบบ PMQA การจัดทำคำรับรองและตัวชี้วัด 22,000
K46: - งานเผยแพร่ประชาสัมพันธ์องค์กร 60,000
K47: - งานตรวจสอบภายใน 51,500
K48: - งานจัดซื้อจัดจ้าง และอาคารสถานที่ 152,600
K49: - งานพัฒนาบุคลากรและงานบริทารทรัพยากรมนุษย์ 662,400
K50: - งานบริหารการเงินและบัญชี 142,000
K51: - งบบริหารจัดการ สลก. 2.000 ลบ.
B52: (5) ค่าตอบแทนเหมาจ่ายแทนการจัดหารถประจำตำแหน่ง | E52: 0.6096 | H52: 0.6096 | I52: =+H52-E52 -> 0 | J52: =+I52*100/H52 -> 0 | K52: รองอธิบดี 2 ท่าน เนื่องจากอธิบดีมีรถประจำตำแหน่ง
B53: 1.1.2 ค่าใช้สอย | E53: =SUM(E55:E105) -> 34.1573 | H53: =SUM(H55:H105) -> 46.8577 | I53: =+H53-E53 -> 12.7004 | J53: =+I53*100/H53 -> 27.10419
B54: รายการไม่ผูกพัน
B55: (1) ค่าเบี้ยเลี้ยง ค่าเช่าที่พัก และค่าพาหนะ | E55: =0.6351+1.294+0.454 -> 2.3831 | H55: =4.1472+2 -> 6.1472 | I55: =+H55-E55 -> 3.7641 | J55: =+I55*100/H55 -> 61.232756 | K55: ค่าใช้จ่ายในการสำรวจพื้นที่และติดตามการดำเนินงาน
K56: - โครงการส่งเสริมการพัฒนาระบบบริหาร ดย. 0.4828 ลบ.
K57: -การเผยแพร่ประชาสัมพันธ์งานของ ดย. 0.3120
K58: - การติดตามของหน่วยตรวจสอบภายในของหน่วยงาน 107 หน่วย 0.6790 ลบ.
K59: - ของคณะกรรมการสอบข้อเท็จจริง ต่างจังหวัด 0.5622
K60: - คณะกรรมการจริยธรรม ดย. 0.0112
K61: - ค่าใช้จ่ายสำหรับผู้เข้าร่วมอบรมของหน่วยงานภูมิภาค 107 แห่ง 2.1000 ลบ.
K62: - ค่าใช้จ่ายในการติดตามงานของผู้บริหาร 2.000 ลบ.
B63: (2) ค่าซ่อมแซมยานพาหนะและขนส่ง | E63: 0.3 | H63: 0.33 | I63: =+H63-E63 -> 0.03 | J63: =+I63*100/H63 -> 9.0909091 | K63: ค่าบำรุงรักษารถยนต์ส่วนกลาง 25 คน โดยเป็นค่าวัสดุ อุปกรณ์และอาหลั่ยรถยนต์ และค่าแรงงานเพื่อให้รถมีสมรรถในการใช้งานได้อย่างมีประสิทธิภาพ
B64: (3) ค่าซ่อมแซมครุภัณฑ์ | E64: 0.25 | H64: =+ 0.27+0.1 -> 0.37 | I64: =+H64-E64 -> 0.12 | J64: =+I64*100/H64 -> 32.432432 | K64: ค่าใช้จ่ายในการซ่อมแซมครุภัณฑ์ในส่วนกลางของ ดย./ซ่อมแซมครุภัณฑ์โสตทัศนูปกรณ์ ของ ดย.
B65: (4) ค่าซ่อมแซมสิ่งก่อสร้าง | E65: 0.3 | H65: 0.33 | I65: =+H65-E65 -> 0.03 | J65: =+I65*100/H65 -> 9.0909091 | K65: ค่าใช้จ่ายในการซ๋อมบำรุงอาคาร เพื่อให้ความปลอดภัยสำหรับบุคลากรและผู้มาติดต่อประสานงาน
B66: (5) ค่าเช่าทรัพย์สิน (ที่ดิน) | E66: 6.9073 | H66: 7.598 | I66: =+H66-E66 -> 0.6907 | J66: =+I66*100/H66 -> 9.0905501 | K66: เช่าที่ดินของการรถไฟ ปี 3 ปี 2560-2562 อยู่ระหว่างการทำสัญญากับการรถไฟแห่งประเทศไทย
B67: (6) ค่าจ้างเหมาบริการ | E67: =1.7+1.5+0.1+0.03+1.5+7.737+0.9484+2.0365+1.2+0.03 -> 16.7819 | H67: 12.6442 | I67: =+H67-E67 -> -4.1377 | J67: =+I67*100/H67 -> -32.724095 | K67: ค่าจ้างเหมาบริการสำหรับงานสนับสนุน เช่น | L67: =SUM(L68:L87) -> 12644200
B68: - ค่าจ้างพนักงานรักษาความปลอดภัย | K68: ดำเนินงานตามมติครม. เมื่อวันที่ 13 ม.ค. 47 โดยจ้าง รปภ. จากองค์การสงเคราะห์ทหารผ่านศึกในพระบรมราชูปถัมภ์ จำนวน 7 คน ในการรักษาความปลอดภัยอาคารสำนักงาน 3 อาคาร โดยองค์การฯ จะเป็นผู้จัดหาแรงงาน เครื่องมือ และวัสดุอุปกรณ์ 2.000 ลบ. | L68: 2000000
B69: - ค่าจ้างทำความสะอาดอาคารสถานที่ | K69: จ้างเหมาเอกชนในการทำความสะอาดอาคารสถานที่ จำนวน 3 อาคาร ตึก 6 ขั้น ตึก 3 ชั้น และอาคารบ้านราชวิถี 2 ขั้น 2.0000 ลบ. | L69: 2000000
B70: - ค่าจ้างกำจัดปลวก | K70: เนื่องจากอาคารทีทำการเป็นพื้นไม้และมีการก่อสร้างนานมาแล้วทำให้มีปลวก แมลงสาบและหนูในบริเวณอาคารทำให้ต้องมีการกำจัด เพื่อสุขอนามัยและสภาพแวดล้อมที่ดี .0350 ลบ. | L70: 35000
B71: - ค่าบำรุงรักษาลิฟท์ | K71: ค่าใช้จ่ายในการซ่อมบำรุงรักษาลิฟท์เนื่องจาก มีอายุการใช้งานนานแล้ว 0.0300 ลบ. | L71: 30000
B72: - ค่าจ้างเก็บขยะรายปี | K72: ค่าเก็บขยะรายปีของ กทม. 0.0200 ลบ. | L72: 20000
B73: - ค่าจ้างเหมาดูแลสวน | K73: ค่าใช้จ่ายในการตกแต่งและบำรุงรักษาสวนหย่อมให้มีความสมบูรณ์และสวยงาม 0.1000 ลบ. | L73: 100000
B74: - ค่าจ้างพนักงานขับรถ | K74: ค่าจ้างเหมาพนักงานขับรถเนื่องจากลูกจ้างประจำได้เกษียณอายุราขการทำให้ไม่มีอัตราทดแทน จึงต้องจ้างพนักงานขับรถเอกขนแทน 2.0000 ลบ. | L74: 2000000
B75: - ค่าเช่าเครื่องถ่ายเอกสาร | K75: จ้างเหมาเครื่องถ่ายเอกสารจากบริษัทเอกชน จำนวน 20 เครื่อง เป็นเวลา 12 เดือน ในการสนับสนุนการดำเนินงานของหน่วยงานให้มีประสิทธิภาพ 2.000 ลบ. | L75: 2000000
B76: - ค่าล้างเครื่องปรับอากาศ | I76: =+H76-E76 -> 0 | J76: =+I76*100/H76 -> #DIV/0! | K76: ค่าล้างเครื่องปรับอากาศ เพื่อให้มีการทำงานอย่างมีประสิทธิภาพ ประหยัดพลังงาน 0.1800 ลบ. | L76: 180000
I77: =+H77-E77 -> 0 | J77: =+I77*100/H77 -> #DIV/0! | K77: - ค่าจัดทำโล่รางวัล ประกวดนวตกรรม 6,600 บาท | L77: 6600
K78: - ค่าจ้างเหมาบริการ โครงการส่งเสริมการพัฒนาระบบบริหาร ดย. 239,100 บาท | L78: 239100
K79: - จ้าจัดพิมพ์หนังสือกฎหมายที่เกียวข้องกับเด็กและเยาวชน เช่น พรบ.คุ้มครองเด็ก/ พรบ.ส่งเสริมการพัฒนาเด็กและเยาวชน 4,000 เล่ม x 50 บาท | L79: 200000
K80: - ค่าจ้างเหมาในการประชาสัมพันธ์ทางหนังสือพิมพ์ 0.3250 ลบ. | L80: 325000
K81: - ค่าจัดทำโปสเตอร์ แผ่นพับ เพื่อสื่อสารงานด้านเด็กและเยาวชน 1.3125 ลบ. | L81: 1312500
K82: - ค่าประชาสัมพันธ์ทางวิทยุ ด้านเด็กและเยาวชน 0.4900 ลบ. | L82: 490000
K83: - ค่าจ้างเหมาตรวจสอบบัญชีของ ดย. 0.1000 ลบ. | L83: 100000
K84: - ค่าจ้างรถยนต์โดยสารและรถบัสในการอบรมสัมนา ของฝ่ายการเจ้าหน้าที่ 1.2960 ลบ. | L84: 1296000
K85: - ค่าจ้างจัดทำแผ่นพับเผยแพร่ประชาสัมพันธ์คุณธรรมจริยธรรม 50 บาท * 2,000 ชุด = 100,000 บาท | L85: 100000
K86: - ค่าจ้างจัดทำวีดีทัศน์เผยแพร่ให้ความรู้เตรียมพร้อมรับสถานการณ์ฉุกเฉิน 300 บาท * 200 ชุด = 60,000 บาท | L86: 60000
K87: - จ้างจัดทำสื่อให้ความรู้การเตรียมพร้อมรับสถานการณ์ฉุกเฉิน 150,000 บาท | L87: 150000
B89: (7) ค่าใช้จ่ายในการสัมนาและฝึกอบรม | E89: =3+1.835 -> 4.835 | H89: 11.4817 | I89: =+H89-E89 -> 6.6467 | J89: =+I89*100/H89 -> 57.889511 | K89: ค่าใช้จ่ายในการอบรมสัมนา | L89: =SUM(L90:L93) -> 11481700
K90: - โครงการส่งเสริมการพัฒนาระบบบริหาร ดย.4.3803 ลบ. | L90: 4380300
K91: - งานพัฒนาบุคลการ 5.4343 ลบ. | L91: 5434300
K92: - งานเผยแพร่ประชาสัมพันธ์องค์กร 1.2765 ลบ. | L92: 1276500
K93: - การพัฒนาและผลักดันกฎหมายเกี่ยวกับกลุ่มเป้าหมาย 0.39060 ลบ. | L93: 390600
B94: (8) ค่าธรรมเนียม | E94: 0.5 | H94: 0.7833 | I94: =+H94-E94 -> 0.2833 | J94: =+I94*100/H94 -> 36.167496 | K94: ค่าธรรมเนียบในการอบรมของหน่วยงานตส. เพื่อเพืมองค์ความรู้แก่ผู้ปฏิบัติงานด้าน การตรวจสอบ จำนวน 3 คนๆ ละ 15,000 บาท/ | L94: 45000
K95: ค่าธรรมเนียมศาล 138,300 เนื่องจาก ดย. มีหน่วยงานในส่วนภูมิภาค 107 หน่วย ซึ่งบางครั้งจะมีคดีทั้งที่เกียวข้อง เช่น การฟ้องร้องผู้ประกอบการก่อสร้างที่ผิดสัญญาทำให้ต้องดำเนินคดีจึงเกิดค่าธรรมเนียมศาลขึ้น | L95: 138300
K96: ค่าธรรมเนียมหลักสูตรภาษาอังกฤษ 200 คน * 2,400 บาท= 480,000 บาท | L96: 480000
K97: ค่าธรรมเนียมฝึกอบรมหลักสูตรอื่นๆ ที่เป็นด้านเทคนิคเฉพาะเช่น จิตวิทยาสำหรับเด็ก การบัญชี ยุทธศาสตร์ เป็นต้น 100 คน * 1,500 บาท = 150,000 บาท | L97: 150000
B98: (9) ค่าใช้จ่ายในการจัดประชุม | E98: 1.9 | H98: =0.2805+2 -> 2.2805 | I98: =+H98-E98 -> 0.3805 | J98: =+I98*100/H98 -> 16.684938 | K98: ค่าใช้จ่ายในการจัดประชุมงานด้านกฎหมาย งานบริหารงานบุคคลเช่น การตรวจสอบข้อเท๋จจริง การชุมคณะกรรมการต่างๆ เช่น
K99: - ค่าใข้จ่ายในการจัดประชุมคณะกรรมการพัฒนาและปรับปรุงกฎหมาย 0.0805
K100: - ค่าใช้จ่ายในการจัดประชุมสอบข้อเท็จ การประชุมคณะกรรมการจริยธรรมของ ดย. การประชุมคณะกรรมการ อกพ. กรม. เป็นต้น .2000
K101: - งานด้านการพัฒนาระบบ กพร. 2
B102: (5) ค่าใช้จ่ายในการจัดกิจกรรมเฉลิมพระเกียรติ | H102: 2.14 | I102: =+H102-E102 -> 2.14 | J102: =+I102*100/H102 -> 100 | K102: เนื่องจาก ดย.มีหน่วยงานในส่วนภูมิภาค 107 หน่วย ซึ่งจะต้องมีการจัดกิจกรรมเฉลิมพระเกียรติและงานวันสำคัญ เป็นตัวแทนหน่วยงานกรมในส่วนภูมิภาค เพื่อจัดกรรม ดังนี้
...

Sheet ยุทธศาสตร์
B2: แบบข้อเสนองบประมาณรายจ่ายประจำปีงบประมาณ พ.ศ. 2560 (เบื้องต้น)
B3: กระทรวง : การพัฒนาสังคมและความมั่นคงของมนุษย์
B4: หน่วยงาน : กรมกิจการเด็กและเยาวชน
K5: หน่วยล้านบาท (ทศนิยม 4 ตำแหน่ง)
B6: รายการ | C6: ปี 2559 | F6: ปี 2560 | I6: เพิ่ม/ลด | J6: เพิ่ม/ลด | K6: คำชี้แจง
C7: หน่วยนับ | D7: ปริมาณ | E7: เงิน | F7: หน่วยนับ | G7: ปริมาณ | H7: เงิน | J7: ร้อยละ
B8: รวมทั้งสิ้น | E8: =+E9+E10+E11+E12+E18 -> 858.3204 | H8: =+H9+H10+H11+H12+H18 -> 1618.1409
B9: 1. งบบุคลากร | C9: อัตรา | D9: - | E9: 0 | F9: - | G9: - | H9: 0 | I9: =+H9-E9 -> 0 | J9: -
B10: 2. งบดำเนินงาน | E10: =+E31+E129+E191+E358+E430+E502 -> 177.9733 | H10: =+H31+H129+H191+H358+H430+H502 -> 238.07092 | I10: =+H10-E10 -> 60.09762 | J10: =+I10*100/H10 -> 25.243579
B11: 3. งบลงทุน | E11: =+E94+E156+E315+E391+E466+E537 -> 0 | H11: =+H94+H156+H315+H391+H466+H537 -> 0 | I11: =+H11-E11 -> 0 | J11: 0
B12: 4. งบเงินอุดหนุน | E12: =+E16 -> 673.4571 | H12: =+H16 -> 1308.07 | I12: =+H12-E12 -> 634.6129 | J12: =+I12*100/H12 -> 48.515209
B13: - งบบุคลากร
B14: - งบดำเนินงาน
B15: - งบลงทุน
B16: - งบเงินอุดหนุน | E16: =+E117+E179+E338+E414+E489+E560 -> 673.4571 | H16: =+H117+H179+H338+H414+H489+H560 -> 1308.07 | I16: =+H16-E16 -> 634.6129 | J16: =+I16*100/H16 -> 48.515209
B17: - งบรายจ่ายอื่น
B18: 5. งบรายจ่ายอื่น | E18: =+E23 -> 6.89 | H18: =+H23 -> 72 | I18: =+H18-E18 -> 65.11 | J18: =+I18*100/H18 -> 90.430556
B19: - งบบุคลากร
B20: - งบดำเนินงาน
B21: - งบลงทุน
B22: - งบเงินอุดหนุน
B23: - งบรายจ่ายอื่น | E23: =+E120+E182+E347+E420+E493+E564 -> 6.89 | H23: =+H120+H182+H347+H420+H493+H564 -> 72 | I23: =+H23-E23 -> 65.11 | J23: =+I23*100/H23 -> 90.430556
B24: แผนงานยุทธศาสตร์ | E24: =+E25+E123+E185+E424 -> 858.3204 | H24: =+H25+H123+H185+H424+H496 -> 1618.1409 | I24: =+H24-E24 -> 759.82052 | J24: =+I24*100/H24 -> 46.956387
B25: 1. แผนงานยุทธศาสตร์ ขับเคลื่อนการแก้ไขปัญหาในจังหวัดชายแดนภาคใต้ | E25: =+E26 -> 6.4631 | H25: =+H26 -> 10.1 | I25: =+H25-E25 -> 3.6369 | J25: =+I25*100/H25 -> 36.008911
B26: โครงการ : สนับสนุนการขับเคลื่อนการแก้ไขปัญหาในจังหวัดชายแดนภาคใต้ | E26: =+E27 -> 6.4631 | H26: =+H27 -> 10.1 | I26: =+H26-E26 -> 3.6369 | J26: =+I26*100/H26 -> 36.008911
B27: กิจกรรม : การส่งเสริมและพัฒนาศักยภาพและเยาวชนในจังหวัดชายแดนภาคใต้ | E27: =+E31+E94+E117+E120 -> 6.4631 | H27: =+H31+H94+H117+H120 -> 10.1 | I27: =+H27-E27 -> 3.6369 | J27: =+I27*100/H27 -> 36.008911
B28: ตัวชี้วัดเชิงปริมาณ :
B29: ที่มาของกิจกรรม1 : | C29: O มติคณะรัฐมนตรี (ชุดปัจจุบัน) | E29: O ข้อสั่งการของนายกรัฐมนตรี | G29: O นโยบายสำคัญของรัฐบาล
C30: O นโยบายความมั่นคงแห่งชาติ | E30: O นโยบายสำคัญของ คสช. | G30: O อื่นๆ ............(ระบุ)................
B31: 1. งบดำเนินงาน | E31: =+E32+E88 -> 6.4631 | H31: =+H32+H88 -> 10.1 | I31: =+H31-E31 -> 3.6369 | J31: =+I31*100/H31 -> 36.008911
B32: 1.1 ค่าตอบแทน ใช้สอยและวัสดุ | E32: =+E33+E35+E86 -> 6.4631 | H32: =+H33+H35+H86 -> 10.1 | I32: =+H32-E32 -> 3.6369 | J32: =+I32*100/H32 -> 36.008911
B33: 1.1.1 ค่าตอบแทน | E33: =SUM(E34:E34) -> 0.232 | H33: =SUM(H34:H34) -> 0.007 | I33: =+H33-E33 -> -0.225 | J33: =+I33*100/H33 -> -3214.2857
B34: (1) ค่าตอบแทนผู้ปฏิบัติงานให้ราชการ | E34: 0.232 | H34: 0.007 | I34: =+H34-E34 -> -0.225 | J34: =+I34*100/H34 -> -3214.2857 | K34: - ค่าตอบแทนคณะกรรมการแลกเปลี่ยนเรียนรู้เพื่อพัฒนาทักษะชีวิตเด็กต่างวัฒนธรรม จำนวน 7 คน x 500 บาท = 3,500 บาท และค่าตอบแทนคณะกรรมการตัดสินองค์กรปกครองส่วนท้องถิ่นที่มีผลการดำเนินงานด้านเด็กดีเด่น จำนวน 7 คน x 500 บาท = 3,500 บาท
B35: 1.1.2 ค่าใช้สอย | E35: =SUM(E37:E78) -> 6.2131 | H35: =SUM(H37:H78) -> 10.04079 | I35: =+H35-E35 -> 3.82769 | J35: =+I35*100/H35 -> 38.121403
B36: รายการไม่ผูกพัน
B37: (1) ค่าเบี้ยเลี้ยง ค่าเช่าที่พัก และค่าพาหนะ | E37: 0.1929 | H37: 0.39261 | I37: =+H37-E37 -> 0.19971 | J37: =+I37*100/H37 -> 50.867273 | K37: 1.เดินทางไปราชการ รวม 200,370 บาท
K38: - ค่าเบี้ยเลี้ยง 2 คน x 240 บาท x 7 วัน = 3,360 บาท
K39: - ค่าเบี้ยเลี้ยง 3 คน x 240 บาท x 16 วัน = 11,520 บาท
K40: - ค่าเบี้ยเลี้ยง 1 คน x 270 บาท x 7 วัน = 1,890 บาท
K41: - ค่าที่พัก 1 คน x 1,200 บาท x 4 วัน = 4,800 บาท
K42: - ค่าที่พัก 2 คน x 800 บาท x 3 วัน = 4,800 บาท
K43: - ค่าที่พัก 2 คน x 600 บาท x 1 วัน = 1,200 บาท
K44: - ค่าที่พัก 3 คน x 800 บาท x 16 วัน = 38,400 บาท
K45: - ค่าพาหนะ 3 คน x 8,600 บาท x 5 ครั้ง = 129,000 บาท
K46: - ค่าพาหนะ 3 คน x 600 บาท x 3 ครั้ง = 5,400 บาท
K47: 2.เดินทางไปจัดอบรม รวม 192,240 บาท
K48: - ค่าเบี้ยเลี้ยง 3 คน x 240 บาท x 5 วัน = 3,600 บาท
K49: - ค่าเบี้ยเลี้ยง 4 คน x 240 บาท x 4 วัน = 3,840 บาท
... K58: - ค่าพาหนะ 4 คน x 8,600 บาท x 1 ครั้ง = 34,400 บาท
B60: (2) ค่าจ้างเหมาบริการ | E60: 0.7716 | H60: 0.7001 | I60: =+H60-E60 -> -0.0715 | J60: =+I60*100/H60 -> -10.212827 | K60: 1.จ้างรถยนต์โดยสารและรถบัสเดินทางไปราชการและจัดอบรม
K61: - รถตู้ 1 คัน x 1,800 บาท x 6 วัน = 10,800 บาท
K62: - รถตู้ 2 คัน x 1,800 บาท x 16 วัน = 57,600 บาท
K63: - รถตู้ 1 คัน x 1,800 บาท x 9 วัน = 16,200 บาท
K64: - รถบัส 2 คัน x 25,000 บาท x 3 วัน = 150,000 บาท
K65: 2.จ้างผลิตสื่อองค์ความรู้ คู่มือการดำเนินงาน นิทรรศการแสดงผลงานประกอบการจัดกิจกรรมโครงการและเพื่อสนับสนุนให้กับเครือข่ายจัดกิจกรรมให้เด็กในพื้นที่
B66: (3) ค่าใช้จ่ายในการฝึกอบรมสัมนา | E66: 3.2763 | H66: 5.08903 | I66: =+H66-E66 -> 1.81273 | J66: =+I66*100/H66 -> 35.620344 | K66: 1.หลักสูตรการปฐมนิเทศครอบครัวรับรอง จำนวน 1 รุ่นๆละ 90 คน
K67: 2.หลักสูตรการจัดกิจกรรมแลกเปลี่ยนเรียนรู้เพื่อการพัฒนาทักษะชีวิตเด็กต่างวัฒนธรรม จำนวน 1 รุ่นๆละ 85 คน
K68: 3.หลักสูตรการอบรมเชิงปฏิบัติการ "รวมพลังแกนนำเด็กจากอดีตสู่อนาคตเพื่อสร้างสรรค์สังคม"จำนวน 1 รุ่นๆละ 105 คน
K69: 4.หลักสูตรการประชุมเชิงปฎิบัติการติดตามประเมินผล จำนวน 1 รุ่นๆละ 85 คน
K70: 5.หลักสูตรการอบรมเชิงปฏิบัติการรวมพลังเครือข่ายด้านเด็กและเยาวชนระดับตำบล จำนวน 1 รุ่นๆละ 100 คน
K71: 6.หลักสูตรการยกย่องเชิดชูเกียรติพื้นที่ที่มีผลงานดีเด่น จำนวน 1 รุ่นๆละ 80 คน
K72: 7.หลักสูตรการประชุมสร้างความเข้าใจการดำเนินงานให้กับเครือข่าย จำนวน 1 รุ่นๆละ 65 คน
K73: 8.หลักสูตรการประชุมถอดบทเรียน จำนวน 1 รุ่นๆละ 70 คน
B74: (4) ค่าใช้จ่ายในการจัดประชุม | H74: 0.09255 | I74: =+H74-E74 -> 0.09255 | J74: =+I74*100/H74 -> 100 | K74: การประชุมคณะกรรมการแลกเปลี่ยนฯ = 72,500 บาท/การประชุมเตรียมความพร้อมจังหวัดแลกเปลี่ยน = 3,700 บาท และการประชุมคณะกรรมการตัดสิน อปท.ดีเด่น = 16,350 บาท
B75: (5) ค่าประกันภัย | E75: 0.017
B76: (6) ค่าใช้จ่ายในการฝึกอาชีพ | E76: 0.1253 | I76: =+H76-E76 -> -0.1253 | J76: 0
B77: (7) ค่าใช้จ่ายในการจัดกิจกรรมส่งเสริมศักยภาพเด็กและเยาวชนในจังหวัดชายแดนภาคใต้ | E77: 1.83 | H77: 3.5865 | I77: =+H77-E77 -> 1.7565 | J77: =+I77*100/H77 -> 48.975324 | K77: สนับสนุนงบประมาณให้กับ 5 จังหวัดชายแดนภาคใต้ สำหรับจัดกิจกรรมในพื้นที่ 3 กิจกรรม คือ 1) กิจกรรมการแลกเปลี่ยนเรียนรู้เพื่อพัฒนาทักษะชีวิตเด็กต่างวัฒนธรรม = 369,500 บาท 2) กิจกรรมชุมชนสร้างภูมิคุ้มกันสำหรับเด็กและเยาวชนใน 10 อบต. = 1,252,000 บาท และ 3) กิจกรรมการเสริมสร้างทักษะการงานสำหรับเด็กและเยาวชน = 1,692,000 บาท
B78: ค่าจ้างเหมาบุคลากรช่วยปฏิบัติงาน (งานดำเนินการเอง)2 | H78: =+H81 -> 0.18 | I78: =+H78-E78 -> 0.18 | J78: =+I78*100/H78 -> 100
B79: - อัตราเดิม
B80: - อัตราใหม่
B81: - ค่าจ้างเหมาบุคคลภายนอกโครงการพัฒนาคุณภาพชีวิตเด็กและเยาวชนในจังหวัดชายแดนภาคใต้ ดย. 1 ตำแหน่ง | H81: 0.18 | I81: =+H81-E81 -> 0.18 | J81: =+I81*100/H81 -> 100 | K81: - จ้างเจ้าหน้าทีช่วยปฏิบัติงานโครงการพัฒนาคุณภาพชีวิตเด็กและเยาวชนในจังหวัดชายแดนภาคใต้ ดย. 1 คน 15,000 x 12 ดือน x 1 คน = 180,0000 บาท
B82: รายการผูกพันฯ ตามสัญญาและ มาตรา 23
B83: (1).......................
B84: รายการผูกพันฯ ใหม่
B85: (1)........................
B86: 1.1.3 ค่าวัสดุ | E86: =SUM(E87:E87) -> 0.018 | H86: =SUM(H87:H87) -> 0.05221 | I86: =+H86-E86 -> 0.03421 | J86: =+I86*100/H86 -> 65.523846
B87: (1) ค่าวัสดุเชื้อเพลิงและหล่อลื่น | E87: 0.018 | H87: 0.05221 | I87: =+H87-E87 -> 0.03421 | J87: =+I87*100/H87 -> 65.523846 | K87: ค่าน้ำมันเชื้อเพลิง สำหรับเจ้าหน้าที่เดินทางไปราชการเพื่อเตรียมการจัดอบรมกิจกรรมและการติดตามผลในพื้นที่
B88: 1.2 ค่าสาธารณูปโภค | E88: =SUM(E89:E93) -> 0 | H88: =SUM(H89:H93) -> 0
B89: (1) ค่าโทรศัพท์
B90: (2) ค่าน้ำประปา
B91: (3) ค่าไปรษณีย์
B92: (4) ค่าไฟฟ้า
B93: (5) ค่าบริการ UBC
B94: 2. งบลงทุน | E94: =+E95+E106 -> 0 | H94: =+H95+H106 -> 0
B95: 2.1 ค่าครุภัณฑ์ | E95: =+E97 -> 0 | H95: =+H97 -> 0
B96: รายการไม่ผูกพัน
B97: 2.1.1 ครุภัณฑ์
B98: (1)........................
B99: (2).......................
B100: รายการผูกพันฯ ตามสัญญาและ มาตรา 23
B101: 2.1.1 ครุภัณฑ์...(ระบุประเภท).....
B102: (1)................(แสดงรายการภาระผูกพัน).....
B103: รายการผูกพันฯ ใหม่
B104: 2.1.1 ครุภัณฑ์...(ระบุประเภท).....
B105: (1)................(แสดงรายการภาระผูกพัน).....
B106: 2.2 ค่าที่ดินและสิ่งก่อสร้าง | E106: =+E108 -> 0 | H106: =+H108 -> 0
B107: รายการไม่ผูกพัน
B108: 2.2.1 ค่าที่ดิน/สิ่งก่อสร้าง...(ระบุประเภท).....
B109: (1)........................
B110: (2).......................
...

Sheet กองทุนคุ้มครองเด็ก
B2: แบบข้อเสนองบประมาณรายจ่ายประจำปีงบประมาณ พ.ศ. 2560 (เบื้องต้น)
B3: กระทรวง : การพัฒนาสังคมและความมั่นคงของมนุษย์
B4: หน่วยงาน : กรมกิจการเด็กและเยาวชน
B5: กองทุนคุ้มครองเด็ก | I5: หน่วยล้านบาท (ทศนิยม 4 ตำแหน่ง)
B6: รายการ | C6: ปี 2559 | F6: ปี 2560 | I6: เพิ่ม/ลด | J6: เพิ่ม/ลด | K6: คำชี้แจง
C7: หน่วยนับ | D7: ปริมาณ | E7: เงิน | F7: หน่วยนับ | G7: ปริมาณ | H7: เงิน | J7: ร้อยละ
B8: รวมทั้งสิ้น | E8: =+E18 -> 75 | H8: =+H18 -> 200
B9: 1. งบบุคลากร
B10: 2. งบดำเนินงาน | E10: - | H10: - | I10: - | J10: -
B11: 3. งบลงทุน | E11: - | H11: - | I11: - | J11: -
B12: 4. งบเงินอุดหนุน | E12: - | H12: - | I12: - | J12: -
B13: - งบบุคลากร
B14: - งบดำเนินงาน
B15: - งบลงทุน
B16: - งบเงินอุดหนุน
B17: - งบรายจ่ายอื่น
B18: 5. งบรายจ่ายอื่น | E18: =+E23 -> 75 | H18: =+H23 -> 200 | I18: =+H18-E18 -> 125 | J18: =+I18*100/H18 -> 62.5
B19: - งบบุคลากร
B20: - งบดำเนินงาน
B21: - งบลงทุน
B22: - งบเงินอุดหนุน
B23: - งบรายจ่ายอื่น | E23: =+E24 -> 75 | H23: =+H24 -> 200 | I23: =+H23-E23 -> 125 | J23: =+I23*100/H23 -> 62.5
B24: แผนงานพื้นฐาน | E24: =+E25 -> 75 | H24: =+H25 -> 200 | I24: =+H24-E24 -> 125 | J24: =+I24*100/H24 -> 62.5
B25: แผนงานพื้นฐานด้านการแก้ไขปัญหาความยากจน ลดความเหลื่อมล้ำและสร้างการเติบโตจากภายใน | E25: =+E27 -> 75 | H25: =+H27 -> 200 | I25: =+H25-E25 -> 125 | J25: =+I25*100/H25 -> 62.5
B26: แผนงานรอง............
B27: ผลผลิต/โครงการ :กองทุนคุ้มครองเด็ก | E27: =+E28+E30 -> 75 | H27: =+H28+H30 -> 200 | I27: =+H27-E27 -> 125 | J27: =+I27*100/H27 -> 62.5
B28: 1. กิจกรรม : การสงเคราะห็และคุ้มครองสวัสดิภาพ ครอบครัวและครอบครัวอุปถัมภ์ | E28: =+E29 -> 25 | H28: =+H29 -> 80 | I28: =+H28-E28 -> 55 | J28: =+I28*100/H28 -> 68.75
B29: งบรายจ่ายอื่น | E29: 25 | H29: 80 | I29: =+H29-E29 -> 55 | J29: =+I29*100/H29 -> 68.75
B30: 2. กิจกรรม : การสนับสนุนโครงการที่ปฏิบัติงานด้านเด็กแก่หน่วยงานภาครัฐและองค์กรภาคเอกชน | E30: =+E31 -> 50 | H30: =+H31 -> 120 | I30: =+H30-E30 -> 70 | J30: =+I30*100/H30 -> 58.333333
B31: งบรายจ่ายอื่น | E31: 50 | H31: 120 | I31: =+H31-E31 -> 70 | J31: =+I31*100/H31 -> 58.333333

Sheet ค่าเบี้ยประชุมคณะกรรมการ
A1: กิจกรรม : การคุ้มครองและพัฒนาเด็กในครอบครัวทดแทน
A2: ชื่อคณะกรรมาธการ+อนุกรรมการ | B2: จำนวนครั้ง | C2: จำนวนคน | D2: อัตรา | E2: รวม
A3: 1. การดำเนินงานด้านการจัดหาครอบครัวบุญธรรม
A4: 1. คณะกรรมการการรับเด็กเป็นบุตรบุญธรรมส่วนกลาง จำนวน 15 คน ประชุมเดือนละ ประมาณ 2-3 ครั้ง
A5: ประธาน | B5: 32 | C5: 1 | D5: 2000 | E5: =+D5*C5*B5 -> 64000
A6: กรรมการ | B6: 32 | C6: 14 | D6: 1600 | E6: =+D6*C6*B6 -> 716800
A7: รวม | E7: =+E6+E5 -> 780800
A9: 2. คณะอนุกรรมการการับเด็กเป็นบุตรบุญธรรมส่วนกลาง จำนวน 12 คน ประชุมเดือนละ 1 ครั้ง
A10: ประธาน | B10: 12 | C10: 1 | D10: 1250 | E10: =+D10*C10*B10 -> 15000
A11: กรรมการ | B11: 12 | C11: 11 | D11: 1000 | E11: =+D11*C11*B11 -> 132000
A12: รวม | E12: =+E11+E10 -> 147000
A14: 3. คณะอนุกรรมการการับเด็กเป็นบุตรบุญธรรมประจำจังหวัด 69 จังหวัด จำนวน 10 คน ประชุม 3 ครั้งต่อปี
A15: ประธาน | B15: 3 | C15: 1 | D15: 1250 | E15: =+D15*C15*B15 -> 3750
A16: กรรมการ | B16: 3 | C16: 9 | D16: 1000 | E16: =+D16*C16*B16 -> 27000
A17: รวม | E17: =+E16+E15 -> 30750
A18: รวม | B18: 69 จังหวัด | E18: =+E17*69 -> 2121750
A20: 4. คณะอนุกรรมการการับเด็กเป็นบุตรบุญธรรมประจำจังหวัด 6 จังหวัด จำนวน 11 คน ประชุม 3 ครั้งต่อปี
A21: ประธาน | B21: 3 | C21: 1 | D21: 1250 | E21: =+D21*C21*B21 -> 3750
A22: กรรมการ | B22: 3 | C22: 10 | D22: 1000 | E22: =+D22*C22*B22 -> 30000
A23: รวม | E23: =+E22+E21 -> 33750
B24: 6 จังหวัด | E24: =+E23*6 -> 202500
A25: 5. คณะอนุกรรมการการับเด็กเป็นบุตรบุญธรรมประจำจังหวัดนนทบุรี จำนวน 12 คน ประชุม 3 ครั้งต่อปี ****
A26: ประธาน | B26: 3 | C26: 1 | D26: 1250 | E26: =+D26*C26*B26 -> 3750
A27: กรรมการ | B27: 3 | C27: 11 | D27: 1000 | E27: =+D27*C27*B27 -> 33000
A28: รวม | E28: =+E27+E26 -> 36750
A29: **** เนื่องจาก นนทบุรีมีสถานสงเคราะห์ 2 แห่ง ซึ่งตาม พรบ. จะต้องมาเป็นอนุกรรมการฯ
A30: รวมงบประมาณทั้งสิ้น | E30: =+E28+E24+E18+E12+E7 -> 3288800
A32: กิจกรรม : การบริหารจัดการองค์การ
A33: ชื่อคณะกรรมาธการ+อนุกรรมการ | B33: จำนวนครั้ง | C33: จำนวนคน | D33: อัตรา | E33: รวม
A34: 1. งานปรับปรุงกฎหมาย
A35: 1.1 อนุกรรมการปรับปรุงกฎหมายเกี่ยวกับเด็กให้เป็นไปตามมาตรฐานของรัฐธรรมนูญและอนุสัญญาว่าด้วยสิทธิเด็ก 29 คน ประชุมเดือนละ 2-3 ครั้ง
A36: ประธาน | B36: 30 | C36: 1 | D36: 1250 | E36: =+D36*C36*B36 -> 37500
A37: กรรมการ | B37: 30 | C37: 28 | D37: 1000 | E37: =+D37*C37*B37 -> 840000
A38: รวม | E38: =+E37+E36 -> 877500
A39: 1.2 อนุกรรมการป้องกัน แก้ไข และขจัดการขาดสารไอโอดีนในเด็กและเยาวชน 31 คน ประชุมเดือนละ 1 ครั้ง
A40: ประธาน | B40: 12 | C40: 1 | D40: 1250 | E40: =+D40*C40*B40 -> 15000
A41: กรรมการ | B41: 12 | C41: 30 | D41: 1000 | E41: =+D41*C41*B41 -> 360000
A42: รวม | E42: =+E41+E40 -> 375000
A44: 1.3 คณะกรรมการสอบข้อเท็จจริงความรับผิดทางละเมิด 7 คณะ ๆ 5 คน เดือนละ 4 ครั้ง
A45: ประธาน | B45: 28 | C45: 1 | D45: 1500 | E45: =+D45*C45*B45 -> 42000
A46: กรรมการ | B46: 28 | C46: 4 | D46: 1200 | E46: =+D46*C46*B46 -> 134400
A47: รวม | E47: =+E46+E45 -> 176400
A49: รวมทั้งสิ้น | E49: =+E47+E42+E38 -> 1428900
A51: 2. โครงการบริหารและพัฒนาทรัพยากรบุคคลสู่ความเป็นเลิศ
A52: 2.1 คณะกรรมการคุ้มครองจริยธรรม
A53: ประธาน | B53: 4 | C53: 1 | D53: 1500 | E53: =+D53*C53*B53 -> 6000
A54: กรรมการ | B54: 4 | C54: 6 | D54: 1200 | E54: =+D54*C54*B54 -> 28800
A55: รวม | E55: =+E54+E53 -> 34800
A56: 2.2 คณะอนุกรรมการ อกพ. กรม
A57: ประธาน | B57: 2 | C57: 1 | D57: 1250 | E57: =+D57*C57*B57 -> 2500
A58: กรรมการ | B58: 2 | C58: 9 | D58: 1125 | E58: =+D58*C58*B58 -> 20250
A59: เลขานุการ | B59: 2 | C59: 1 | D59: 1000 | E59: =+D59*C59*B59 -> 2000
A60: ผู้ช่วยเลขานุการ | B60: 2 | C60: 1 | D60: 1000 | E60: =+D60*C60*B60 -> 2000
A61: รวม | E61: =+E57+E58+E59+E60 -> 26750
A63: กิจกรรมหลักการสร้างมาตรการกลไก ด้านเด็กและเยาวชน
A64: คณะอนุกรรมการเรื่อง "สิทธิเด็ก"
A65: ประธาน | B65: 10 | C65: 1 | D65: 1250 | E65: =+D65*C65*B65 -> 12500
A66: รองประธาน | B66: 10 | C66: 2 | D66: 1125 | E66: =+D66*C66*B66 -> 22500
A67: กรรมการและที่ปรึกษา | B67: 10 | C67: 37 | D67: 1000 | E67: =+D67*C67*B67 -> 370000
A68: รวม | E68: =+E67+E65 -> 382500
A70: กิจกรรมหลัก การส่งเสริมศักยภาพเด็กและเยาวชน | E70: =+E75+E80+E85+E90+E95+E100+E103 -> 421600
A71: คณะกรรมการจัดงานวันเยาวชนแห่งชาติ
A72: ประธาน | B72: 2 | C72: 1 | D72: 2000 | E72: =+D72*C72*B72 -> 4000
A73: รองประธาน | B73: 2 | C73: 2 | D73: 1800 | E73: =+D73*C73*B73 -> 7200
A74: กรรมการ | B74: 2 | C74: 23 | D74: 1600 | E74: =+D74*C74*B74 -> 73600
A75: รวม | E75: =+E74+E72 -> 77600
A76: คณะอนุกรรมการสรรฯ เยาวชนดีเด่น
A77: ประธาน | B77: 3 | C77: 1 | D77: 1250 | E77: =+D77*C77*B77 -> 3750
A78: รองประธาน | B78: 3 | C78: 1 | D78: 1125 | E78: =+D78*C78*B78 -> 3375
A79: กรรมการ | B79: 3 | C79: 29 | D79: 1000 | E79: =+D79*C79*B79 -> 87000
A80: รวม | E80: =+E79+E77 -> 90750
A81: คณะกรรมการสรรหา 11 สาขา
A82: กรรมการ | B82: 2 | C82: 13 | D82: 500 | E82: =+D82*C82*B82 -> 13000
A84: 11 สาขา | B84: 11 | E84: =+E82*B84 -> 143000
A85: รวม | E85: =+E84 -> 143000
A86: คณะอนุการประชาสัมพันธ์วันเยาวชนแห่งชาติ
A87: ประธาน | B87: 1 | C87: 1 | D87: 1250 | E87: =+D87*C87*B87 -> 1250
A88: รองประธาน | B88: 1 | C88: 1 | D88: 1125 | E88: =+D88*C88*B88 -> 1125
A89: กรรมการ | B89: 1 | C89: 25 | D89: 1000 | E89: =+D89*C89*B89 -> 25000
A90: รวม | E90: =+E89+E87 -> 26250
A91: คณะอนุกรรมการดำเนินงานพิธีเปิดงานวันเยาวชนแห่งชาติ
A92: ประธาน | B92: 2 | C92: 1 | D92: 1250 | E92: =+D92*C92*B92 -> 2500
A93: รองประธาน | B93: 2 | C93: 1 | D93: 1125 | E93: =+D93*C93*B93 -> 2250
A94: กรรมการ | B94: 2 | C94: 22 | D94: 1000 | E94: =+D94*C94*B94 -> 44000
A95: รวม | E95: =+E94+E92 -> 46500
A96: คณะอนุกรรมการดนตรีไทย
A97: ประธาน | B97: 2 | C97: 1 | D97: 1250 | E97: =+D97*C97*B97 -> 2500
A98: รองประธาน | B98: 2 | C98: 1 | D98: 1125 | E98: =+D98*C98*B98 -> 2250
A99: กรรมการ | B99: 2 | C99: 16 | D99: 1000 | E99: =+D99*C99*B99 -> 32000
A100: รวม | E100: =+E99+E97 -> 34500
A101: คณะอนุกรรมการคัดเลือกยุวสตรีดีเด่น
A102: กรรมการ | B102: 2 | C102: 3 | D102: 500 | E102: =+D102*C102*B102 -> 3000
A103: รวม | E103: =+E102 -> 3000
A105: การคุ้มครองสิทธิเด็กและเยาวชน
A106: คณะกรรมการบริหารกองทุน 9 คน ประชุม 11 คร้งต่อปี
A107: ประธาน | B107: 11 | C107: 1 | D107: 2000 | E107: =+D107*C107*B107 -> 22000
A108: กรรมการ | B108: 11 | C108: 8 | D108: 1600 | E108: =+D108*C108*B108 -> 140800
A109: รวม | E109: =+E108+E107 -> 162800
A110: คณะกรรมการกลั่นกรองโครงการ จำนวน 16 คน ประชุม 11 ครั้งต่อปี
A111: ประธาน | B111: 11 | C111: 1 | D111: 1250 | E111: =+D111*C111*B111 -> 13750
...

Sheet อบรมสัมนา

Sheet เดินทางไปต่างประเทศ
A1: กิจกรรม : การคุ้มครองและพัฒนาเด็กในครอบครัวทดแทน

Sheet ค่าเช่าบ้าน
A1: ค่าเช่าบ้าน | D1: =SUM(D4:D21) -> 3420000
A3: ส่วนกลาง
A4: 1 | B4: นางนภา เศรษฐกร | C4: 4000 | D4: =+C4*12 -> 48000
A5: =+A4+1 -> 2 | B5: นางปุณภา ไพบูลย์ | C5: 4000 | D5: =+C5*12 -> 48000
A6: =+A5+1 -> 3 | B6: นางสุกัญญา งามสมภาพ | C6: 4000 | D6: =+C6*12 -> 48000
A7: =+A6+1 -> 4 | B7: นายอนันญนวิช อนุศาสสบัน | C7: 4000 | D7: =+C7*12 -> 48000
A8: =+A7+1 -> 5 | B8: นางธงชัย มูลพันธ์ | C8: 3300 | D8: =+C8*12 -> 39600
A9: =+A8+1 -> 6 | B9: นางสาวพรปวี อุไรสวัสดิ์ | C9: 4000 | D9: =+C9*12 -> 48000
A10: =+A9+1 -> 7 | B10: นางสาวกาญจนา แก้วพวงษ์ | C10: 2200 | D10: =+C10*12 -> 26400
A11: =+A10+1 -> 8 | B11: นางอวยพร โรจน์นิติพัน | C11: 4000 | D11: =+C11*12 -> 48000
A12: =+A11+1 -> 9 | B12: นางสาวอัชฌา เทพสุวรรณ | C12: 4000 | D12: =+C12*12 -> 48000
A13: 10 | B13: 8 | C13: 4000 | D13: =+C13*B13*12 -> 384000
D14: =SUM(D4:D13) -> 786000
A15: บ้านพักเด็ก
B16: - ระดับชำนาญงาน = 3 * 3,000 * 12 = 108,000 | D16: 108000
B17: - ระดับชำนาญการ = 30 * 3,500 * 12 = 1,260,000 | D17: 1260000
B18: - ระดับชำนาญการพิเศษ = 10 * 4,000 * 12 = 480,000 | D18: 480000
A20: สถานสงเคระห์
B21: เป็นค่าเช่าบ้านของข้าราชการที่ปฏิบัติงานในหน่วยงานที่มีบ้านพักอาศัยไม่เพียงพอ จำนวน 12 อัตรา * 3,500 * 12 เดือน
C23: =+C25+C26+C24 -> 16 | D23: 672000 | E23: =SUM(E24:E26) -> 672000
B24: 3000 | C24: 5 | D24: 12 | E24: =+D24*C24*B24 -> 180000
B25: 3500 | C25: 6 | D25: 12 | E25: =+D25*C25*B25 -> 252000
B26: 4000 | C26: 5 | D26: 12 | E26: =+D26*C26*B26 -> 240000

Sheet ค่าโทรศัพท์

Sheet เงินอุดหนุน
A1: รายละเอียดคำชี้แจง งบประมาณแยกตามประเภทงบรายจ่าย ประจำปีงบประมาณ พ.ศ. 2560
A3: รายการ | B3: ปี 2559 | C3: ปี 2560 | D3: คำชี้แจง
A4: - เงินอุดหนุนช่วยเหลือเด็กในครอบครัว | B4: 113820000 | C4: 120000000 | D4: - การสงเคราะห์เด็กแบบครอบครัวอุปถัมภ์
A5: อุปถัมภ์ | D5: - ปีงบประมาณ 2560 ได้ตั้งเป้าหมายให้การสงเคราะห์เด็กในครอบครัวช่วยเหลือ
D6: ค่าเลี้ยงดูเด็กในครอบครัวอุปถัมภ์ทั่วประเทศ จำนวน 5,000 คน ในอัตรารายละ 2,000 บาท
D7: ต่อเดือน เป็นเงิน 120,000,000 บาท โดยให้การช่วยเหลือแก่เด็กในครอบครัวอุปถัมภ์ที่
D8: ยากจน และประสบปัญหาความเดือดร้อนเกี่ยวกับค่าใช้จ่ายในการเลี้ยงดูเด็ก ได้แก่
D9: - เด็กกำพร้าบิดา มารดา
D10: - เด็กที่ถูกบิดา มารดาทอดทิ้งไว้กับครอบครัว ซึ่งมีความเกี่ยวพันเป็นญาติ หรือไม่ได้
D11: เป็นญาติกับเด็ก ได้แก่ ผู้รับจ้างเลี้ยงดู
D12: - เด็กที่บิดา มารดาไม่สามารถเลี้ยงดูเองได้ ด้วยเหตุผลความจำเป็นต่างๆ เช่น เจ็บ
D13: ป่วยหนัก ต้องโทษจำคุก ฯลฯ
D14: วิธีให้การสงเคราะห์
D15: 1. ให้การช่วยเหลือเป็นเงิน เพื่อเป็นค่าเลี้ยงดูแบบครอบครัวอุปถัมภ์ในอัตราไม่เกิน
D16: 2,000 บาท ต่อเดือน กรณีอุปการะ 1 คน และอัตราไม่เกิน 4,000 บาท กรณีอุปการะเกิน
D17: กว่า 1 คน
... D21: อุปโภค-บริโภคแก่เด็กตามความจำเป็น ลงวันที่ 17 มิถุนายน 2558

Sheet ค่าเช่าทรัพย์สิน
A2: บ้านพักเด็ก
A3: สถานสงเคาะห์
A4: ดย.
